BEGIN:VCALENDAR
VERSION:2.0
PRODID:-//Societat Coral Amics de la Unió - ECPv5.7.0//NONSGML v1.0//EN
CALSCALE:GREGORIAN
METHOD:PUBLISH
X-WR-CALNAME:Societat Coral Amics de la Unió
X-ORIGINAL-URL:https://www.amicsdelaunio.cat
X-WR-CALDESC:Esdeveniments per Societat Coral Amics de la Unió
BEGIN:VTIMEZONE
TZID:Europe/Paris
BEGIN:DAYLIGHT
TZOFFSETFROM:+0100
TZOFFSETTO:+0200
TZNAME:CEST
DTSTART:20250330T010000
END:DAYLIGHT
BEGIN:STANDARD
TZOFFSETFROM:+0200
TZOFFSETTO:+0100
TZNAME:CET
DTSTART:20251026T010000
END:STANDARD
END:VTIMEZONE
BEGIN:VEVENT
DTSTART;TZID=Europe/Paris:20250402T180000
DTEND;TZID=Europe/Paris:20250402T183000
DTSTAMP:20260426T062129
CREATED:20241230T161248Z
LAST-MODIFIED:20250401T171624Z
UID:9106-1743616800-1743618600@www.amicsdelaunio.cat
SUMMARY:4t Concert Intergeneracional
DESCRIPTION:🎟️ Entrada Lliure \n📍 Sala Tarafa \n  \nEl Cor d’Inicis 2 i 3 participa d’aquest concert d’intercanvi amb la Coral del Casal de la Gent Gran de Granollers. Faran uns assaigs conjunts per preparar el concert\, en el qual interpretaran un repertori variat amb cançons d’ahir i d’avui. Una activitat on la música i la veu seran el que unirà cors d’edats tant diferents.
URL:https://www.amicsdelaunio.cat/agenda/4t-concert-intergeneracional/
LOCATION:Sala Tarafa\, Carrer de Corró\, 47\, 08401 Granollers\, Barcelona
CATEGORIES:Cor d'Inicis,Escola Granollers
ATTACH;FMTTYPE=image/jpeg:https://www.amicsdelaunio.cat/wp-content/uploads/2024/12/IMG20240314174651-scaled.jpg
END:VEVENT
END:VCALENDAR