BEGIN:VCALENDAR
VERSION:2.0
PRODID:-//Societat Coral Amics de la Unió - ECPv5.7.0//NONSGML v1.0//EN
CALSCALE:GREGORIAN
METHOD:PUBLISH
X-WR-CALNAME:Societat Coral Amics de la Unió
X-ORIGINAL-URL:https://www.amicsdelaunio.cat
X-WR-CALDESC:Esdeveniments per Societat Coral Amics de la Unió
BEGIN:VTIMEZONE
TZID:Europe/Paris
BEGIN:DAYLIGHT
TZOFFSETFROM:+0100
TZOFFSETTO:+0200
TZNAME:CEST
DTSTART:20250330T010000
END:DAYLIGHT
BEGIN:STANDARD
TZOFFSETFROM:+0200
TZOFFSETTO:+0100
TZNAME:CET
DTSTART:20251026T010000
END:STANDARD
END:VTIMEZONE
BEGIN:VEVENT
DTSTART;TZID=Europe/Paris:20250404T200000
DTEND;TZID=Europe/Paris:20250404T212000
DTSTAMP:20260426T062109
CREATED:20250331T161600Z
LAST-MODIFIED:20250401T163356Z
UID:9197-1743796800-1743801600@www.amicsdelaunio.cat
SUMMARY:Chichester Psalms
DESCRIPTION:🎟️ Compra la teva entrada aquí \n📍 La Factoria Cultural de Terrassa \n  \nBernstein s’inspira en els Salms per a una obra coral commovedora. El text\, adaptat pel mateix compositor\, es basa en passatges del Llibre dels Salms en hebreu\, creant una atmosfera espiritual i emotiva. Encarregada especialment per al Festival de Chichester de 1965\, aquesta obra s’ha convertit en una de les més interpretades de Bernstein. El seu estil innovador fusiona elements del jazz i la música contemporània\, oferint una experiència accessible i commovedora per a tot el públic. \nCor de Cambra de Granollers\, cor d’escena\nJosep Vila Jover\, director \nOrquestra Sinfònica del Vallès\nXavier Puig\, director \nSolistes: Adriana Berruezo\, Victoria Cancelli\, Anna Fernández\, Txell Milà\, Laia Prat\, Núria Vives\, Pau Bragulat\, Emili Flores\, Emili Fortea\, David Guitart\, Xavier Tudela i Lluís Vergés\nNens solistes: Sergi Gonzales i Alejandro Llovera \nCor de Cambra de l’Auditori Enric Granados\, \nXavier Puig\, director \nCor Montserrat de Terrassa\nRosa M. Ribera\, directora \nXavier Puig\, direcció
URL:https://www.amicsdelaunio.cat/agenda/chichester-psalms/
LOCATION:La Factoria Cultural de Terrassa\, Rambla d'Ègara\, 340\, 08221 Terrassa\, Barcelona\, Barcelona\, Espanya
CATEGORIES:Cor de Cambra,General
ATTACH;FMTTYPE=image/jpeg:https://www.amicsdelaunio.cat/wp-content/uploads/2025/03/FOTO-3-scaled.jpg
END:VEVENT
END:VCALENDAR