BEGIN:VCALENDAR
VERSION:2.0
PRODID:-//Societat Coral Amics de la Unió - ECPv5.7.0//NONSGML v1.0//EN
CALSCALE:GREGORIAN
METHOD:PUBLISH
X-WR-CALNAME:Societat Coral Amics de la Unió
X-ORIGINAL-URL:https://www.amicsdelaunio.cat
X-WR-CALDESC:Esdeveniments per Societat Coral Amics de la Unió
BEGIN:VTIMEZONE
TZID:Europe/Paris
BEGIN:DAYLIGHT
TZOFFSETFROM:+0100
TZOFFSETTO:+0200
TZNAME:CEST
DTSTART:20250330T010000
END:DAYLIGHT
BEGIN:STANDARD
TZOFFSETFROM:+0200
TZOFFSETTO:+0100
TZNAME:CET
DTSTART:20251026T010000
END:STANDARD
END:VTIMEZONE
BEGIN:VEVENT
DTSTART;TZID=Europe/Paris:20250417T200000
DTEND;TZID=Europe/Paris:20250417T213000
DTSTAMP:20260426T062057
CREATED:20250401T072500Z
LAST-MODIFIED:20250401T165323Z
UID:9227-1744920000-1744925400@www.amicsdelaunio.cat
SUMMARY:Miserere Hasse
DESCRIPTION:🎟️ Compra les teves entrades aquí \n📍 Església del Carme de Peralada \n  \nEl Festival de Pasqua de Peralada acull una interpretació excepcional del Miserere en do menor de Johann Adolph Hasse\, una de les obres sacres més emotives del Barroc tardà. Basada en el Salm 51\, aquesta peça captura la intensitat del penediment i la súplica a través d’una rica escriptura coral i orquestral. \nLa prestigiosa formació Vespres d’Arnadí serà l’encarregada de donar vida a aquesta obra\, acompanyada per Veus – Cor Infantil Amics de la Unió\, que hi aportarà una sonoritat delicada i emotiva. Junts oferiran una experiència musical de gran bellesa i profunditat espiritual. \n  \nVeus – Cor Infantil Amics de la Unió \nJosep Vila Jover\, director \nVespres d’Arnadi \nDani Espasa\, director \nValer Sabadus\, solista \nMarie Lys\, solista \nRafael Quirant\, solista \nMaria Espada\, solista \nAnna Alàs i Jové\, solista
URL:https://www.amicsdelaunio.cat/agenda/miserere-hasse/
LOCATION:Església del Carme del Castell de Peralada
CATEGORIES:General,Veus
ATTACH;FMTTYPE=image/jpeg:https://www.amicsdelaunio.cat/wp-content/uploads/2025/04/VEUS-04-scaled.jpg
END:VEVENT
END:VCALENDAR