BEGIN:VCALENDAR
VERSION:2.0
PRODID:-//Societat Coral Amics de la Unió - ECPv5.7.0//NONSGML v1.0//EN
CALSCALE:GREGORIAN
METHOD:PUBLISH
X-WR-CALNAME:Societat Coral Amics de la Unió
X-ORIGINAL-URL:https://www.amicsdelaunio.cat
X-WR-CALDESC:Esdeveniments per Societat Coral Amics de la Unió
BEGIN:VTIMEZONE
TZID:Europe/Paris
BEGIN:DAYLIGHT
TZOFFSETFROM:+0100
TZOFFSETTO:+0200
TZNAME:CEST
DTSTART:20250330T010000
END:DAYLIGHT
BEGIN:STANDARD
TZOFFSETFROM:+0200
TZOFFSETTO:+0100
TZNAME:CET
DTSTART:20251026T010000
END:STANDARD
END:VTIMEZONE
BEGIN:VEVENT
DTSTART;TZID=Europe/Paris:20250607T200000
DTEND;TZID=Europe/Paris:20250607T200000
DTSTAMP:20260425T165017
CREATED:20250410T154520Z
LAST-MODIFIED:20250425T093815Z
UID:9354-1749326400-1749326400@www.amicsdelaunio.cat
SUMMARY:Kinky Boots
DESCRIPTION:🎟️​ Entrades aquí\n📍​Teatre Auditori Can Palots\, Canovelles \nEl Cor Mixt Amics de la Unió porta a escena el musical Kinky Boots. Una proposta enlluernadora\, divertida\, emocionant i inspiradora! Un musical inspirat principalment en fets reals que explica la història de Charlie Price. Després d’haver heretat una fàbrica de sabates del seu pare\, Charlie forma una col·laboració improbable amb l’intèrpret de cabaret i drag queen Lola per produir una línia de botes de taló alt i salvar el negoci. En el procés\, Charlie i Lola descobreixen que al cap i a la fi no són tan diferents. \nAmb música de Cyndi Lauper i llibret de Harvey Fierstein. \n  \nCor Mixt Amics de la Unió\nLuc-Olivier Sànchez\, director \n  \n\nhttps://www.amicsdelaunio.cat/wp-content/uploads/2025/04/IG-Cartells-Kinky-Boots.mp4
URL:https://www.amicsdelaunio.cat/agenda/kinky-boots-2/
LOCATION:Teatre Auditori Can Palots
CATEGORIES:Cor Mixt Amics de la Unió,Veus
ATTACH;FMTTYPE=image/jpeg:https://www.amicsdelaunio.cat/wp-content/uploads/2025/04/IT2A0014-scaled.jpg
END:VEVENT
BEGIN:VEVENT
DTSTART;TZID=Europe/Paris:20250607T200000
DTEND;TZID=Europe/Paris:20250607T210000
DTSTAMP:20260425T165017
CREATED:20250409T150956Z
LAST-MODIFIED:20250409T150956Z
UID:9318-1749326400-1749330000@www.amicsdelaunio.cat
SUMMARY:Ilse
DESCRIPTION:🎟️​ Compra les entrades aquí. \n📍​ Teatre de Vilaseca \nL’espectacle s’inicia amb una Ruth Elias\, supervivent de Theresienstadt i Auschwitz que\, ja gran\, explica les seves vivències als seus néts. Això ens permet fer un flashback sobre la vida al ghetto i sobre com va conèixer Ilse Weber.\nLluny del melodrama fàcil\, aquesta serà una presentació dels fets des dels punts de vista de les dues dones i dels nens que cuidaven. El final serà un cant a la pau i no una plasmació del drama humà. \nVeus – Cor Infantil Amics de la Unió\nJosep Vila Jover\, director \nTraginart Ensemble \nNeus Pàmies\, solista \nCarme Milan\, solista \nMarc Pujol\, solista \nMercè Arànega\, actriu \nRoger Padullés\, llibret \nJordi Domènech\, música \nJosep Vila Jover\, direcció
URL:https://www.amicsdelaunio.cat/agenda/ilse-2/
LOCATION:Teatre de Vilaseca\, Carrer del Patró\, 8\, Vila-seca\, Vilaseca\, Tarragona\, 43480
CATEGORIES:General,Veus
ATTACH;FMTTYPE=image/jpeg:https://www.amicsdelaunio.cat/wp-content/uploads/2025/04/VEUS-02-scaled.jpg
END:VEVENT
END:VCALENDAR