BEGIN:VCALENDAR
VERSION:2.0
PRODID:-//Societat Coral Amics de la Unió - ECPv5.7.0//NONSGML v1.0//EN
CALSCALE:GREGORIAN
METHOD:PUBLISH
X-WR-CALNAME:Societat Coral Amics de la Unió
X-ORIGINAL-URL:https://www.amicsdelaunio.cat
X-WR-CALDESC:Esdeveniments per Societat Coral Amics de la Unió
BEGIN:VTIMEZONE
TZID:Europe/Paris
BEGIN:DAYLIGHT
TZOFFSETFROM:+0100
TZOFFSETTO:+0200
TZNAME:CEST
DTSTART:20250330T010000
END:DAYLIGHT
BEGIN:STANDARD
TZOFFSETFROM:+0200
TZOFFSETTO:+0100
TZNAME:CET
DTSTART:20251026T010000
END:STANDARD
END:VTIMEZONE
BEGIN:VEVENT
DTSTART;TZID=Europe/Paris:20250614T180000
DTEND;TZID=Europe/Paris:20250614T200000
DTSTAMP:20260425T182731
CREATED:20250410T152715Z
LAST-MODIFIED:20250601T113324Z
UID:9360-1749924000-1749931200@www.amicsdelaunio.cat
SUMMARY:Concert fi de curs
DESCRIPTION:🎟️​ Entrades properament\n📍​ Sala Tarafa\, Granollers \nEl Cor Gaia i el Cor Arpegi oferiran un concert que constarà de dues parts. En primer lloc\, el cor femení interpretarà una selecció del seu repertori de dones intèrpretes i compositores i seguidament\, el Cor Arpegi portarà la seva producció Madrigal: Veus del Renaixement\, Polifonia en Quatre Llengües. Aquest programa ofereix un viatge sonor a través de quatre grans escoles madrigalesques: l’anglesa\, plena de lirisme i delicadesa expressiva; la francesa\, elegant i subtil en la seva retòrica musical; la italiana\, d’intensa passió i dramatisme; i l’espanyola\, amb la seva riquesa harmònica i el seu caràcter profundament evocador. A través d’aquesta selecció de madrigals\, descobrirem l’exquisida varietat d’un gènere que captiva per la seva bellesa i emoció atemporal. \n  \nCor Arpegi Amics de la Unió\nGuillem Ponsi\, director \nCor Gaia Amics de la Unió\nMaria Illa\, directora
URL:https://www.amicsdelaunio.cat/agenda/concert-fi-de-curs/
LOCATION:Sala Tarafa\, Carrer de Corró\, 47\, 08401 Granollers\, Barcelona
CATEGORIES:Cor Arpegi Amics de la Unió,Cor Gaia Amics de la Unió,General
ATTACH;FMTTYPE=image/png:https://www.amicsdelaunio.cat/wp-content/uploads/2025/04/Disseny-sense-títol-1.png
END:VEVENT
END:VCALENDAR