BEGIN:VCALENDAR
VERSION:2.0
PRODID:-//Societat Coral Amics de la Unió - ECPv5.7.0//NONSGML v1.0//EN
CALSCALE:GREGORIAN
METHOD:PUBLISH
X-WR-CALNAME:Societat Coral Amics de la Unió
X-ORIGINAL-URL:https://www.amicsdelaunio.cat
X-WR-CALDESC:Esdeveniments per Societat Coral Amics de la Unió
BEGIN:VTIMEZONE
TZID:Europe/Paris
BEGIN:DAYLIGHT
TZOFFSETFROM:+0100
TZOFFSETTO:+0200
TZNAME:CEST
DTSTART:20250330T010000
END:DAYLIGHT
BEGIN:STANDARD
TZOFFSETFROM:+0200
TZOFFSETTO:+0100
TZNAME:CET
DTSTART:20251026T010000
END:STANDARD
END:VTIMEZONE
BEGIN:VEVENT
DTSTART;TZID=Europe/Paris:20250619T203000
DTEND;TZID=Europe/Paris:20250619T203000
DTSTAMP:20260425T164207
CREATED:20250618T092341Z
LAST-MODIFIED:20250618T092341Z
UID:9453-1750365000-1750365000@www.amicsdelaunio.cat
SUMMARY:Sobretaula
DESCRIPTION:Dijous 19 de juny a les 20.30h us convidem al concert de @sound.eight \nSobretaula\, una taula\, deu amigues i un sopar ben musical \nA la Sala Sant Francesc
URL:https://www.amicsdelaunio.cat/agenda/sobretaula/
LOCATION:Sala Sant Francesc\, Granollers
CATEGORIES:General,Sound 8
ATTACH;FMTTYPE=image/jpeg:https://www.amicsdelaunio.cat/wp-content/uploads/2025/06/CARTELL-SO-8-copia_page-0001.jpg
END:VEVENT
END:VCALENDAR