BEGIN:VCALENDAR
VERSION:2.0
PRODID:-//Societat Coral Amics de la Unió - ECPv5.7.0//NONSGML v1.0//EN
CALSCALE:GREGORIAN
METHOD:PUBLISH
X-WR-CALNAME:Societat Coral Amics de la Unió
X-ORIGINAL-URL:https://www.amicsdelaunio.cat
X-WR-CALDESC:Esdeveniments per Societat Coral Amics de la Unió
BEGIN:VTIMEZONE
TZID:Europe/Paris
BEGIN:DAYLIGHT
TZOFFSETFROM:+0100
TZOFFSETTO:+0200
TZNAME:CEST
DTSTART:20250330T010000
END:DAYLIGHT
BEGIN:STANDARD
TZOFFSETFROM:+0200
TZOFFSETTO:+0100
TZNAME:CET
DTSTART:20251026T010000
END:STANDARD
END:VTIMEZONE
BEGIN:VEVENT
DTSTART;TZID=Europe/Paris:20250920T190000
DTEND;TZID=Europe/Paris:20250920T200000
DTSTAMP:20260426T012433
CREATED:20220829T100550Z
LAST-MODIFIED:20250822T152843Z
UID:9465-1758394800-1758398400@www.amicsdelaunio.cat
SUMMARY:Songs of Hope
DESCRIPTION:🎟️​ Compra les teves entrades aquí \n📍 Lo Sindicat\, Flix \nVeus-Cor Infantil Amics de la Unió oferirà un concert a la sala Lo Sindicat de Flix. \nSongs of Hope és l’espectacle més genuí de Veus – Cor Infantil Amics de la Unió. Un so blanc i natural\, una actitud escènica que denota experiència en el treball interpretatiu i la capacitat de comunicar-se amb el públic a través de les emocions són els ingredients que formen la proposta. Estrenat el 2012 sota el títol de VEUS i reeditat el 2018 com a Songs of Hope\, el cor ha trepitjat els escenaris amb una nova manera d’entendre el cant coral. Veus ha portat aquesta concepció de la música arreu d’Europa\, Àsia i els Estats Units l’estiu del 2019. \n  \nVeus – Cor Infantil Amics de la Unió \nJosep Vila Jover\, director \n 
URL:https://www.amicsdelaunio.cat/agenda/songs-of-hope-16-2/
LOCATION:Lo Sindicat\, Flix\, Carrer Joan Maragall\, 14-16\, Flix\, Tarragona\, 43750
CATEGORIES:General,Veus
ATTACH;FMTTYPE=image/jpeg:https://www.amicsdelaunio.cat/wp-content/uploads/2022/08/JFA8812-scaled.jpg
END:VEVENT
END:VCALENDAR