BEGIN:VCALENDAR
VERSION:2.0
PRODID:-//Societat Coral Amics de la Unió - ECPv5.7.0//NONSGML v1.0//EN
CALSCALE:GREGORIAN
METHOD:PUBLISH
X-WR-CALNAME:Societat Coral Amics de la Unió
X-ORIGINAL-URL:https://www.amicsdelaunio.cat
X-WR-CALDESC:Esdeveniments per Societat Coral Amics de la Unió
BEGIN:VTIMEZONE
TZID:Europe/Paris
BEGIN:DAYLIGHT
TZOFFSETFROM:+0100
TZOFFSETTO:+0200
TZNAME:CEST
DTSTART:20250330T010000
END:DAYLIGHT
BEGIN:STANDARD
TZOFFSETFROM:+0200
TZOFFSETTO:+0100
TZNAME:CET
DTSTART:20251026T010000
END:STANDARD
END:VTIMEZONE
BEGIN:VEVENT
DTSTART;TZID=Europe/Paris:20251108T190000
DTEND;TZID=Europe/Paris:20251108T203000
DTSTAMP:20260426T055544
CREATED:20220829T100550Z
LAST-MODIFIED:20250823T162629Z
UID:9492-1762628400-1762633800@www.amicsdelaunio.cat
SUMMARY:Assemblea European Choral Association\, Songs of Hope
DESCRIPTION:🎟️​ Compra les teves entrades aquí \n📍 Auditori de Girona\, Barcelona \nEn el marc de l’assemblea de l’European Choral Association\, l’Auditori de Girona acull un concert impulsat pel Secretariat de Corals Infantils de Catalunya que reuneix dues de les formacions corals més destacades del país en els àmbits infantil i juvenil. D’una banda\, Veus – Cor Infantil Amics de la Unió\, una formació multipremiada i amb gran projecció internacional\, dirigida des de la seva fundació per Josep Vila i Jover. De l’altra\, el Cor Jove Nacional de Catalunya\, un projecte coral de caràcter formatiu i d’alt nivell artístic\, nascut el 2013 i actualment dirigit per Mireia Barrera. \nVeus-Cor Infantil Amics de la Unió oferirà Songs of Hope el seu espectacle més genuí. Un so blanc i natural\, una actitud escènica que denota experiència en el treball interpretatiu i la capacitat de comunicar-se amb el públic a través de les emocions són els ingredients que formen la proposta. Estrenat el 2012 sota el títol de VEUS i reeditat el 2018 com a Songs of Hope\, el cor ha trepitjat els escenaris amb una nova manera d’entendre el cant coral. Veus ha portat aquesta concepció de la música arreu d’Europa\, Àsia i els Estats Units l’estiu del 2019. \n  \nVeus – Cor Infantil Amics de la Unió \nJosep Vila Jover\, director \nCor Jove Nacional de Catalunya \nMireia Barrera\, directora
URL:https://www.amicsdelaunio.cat/agenda/songs-of-hope-16-4/
LOCATION:Auditori de Girona
CATEGORIES:General,Veus
ATTACH;FMTTYPE=image/jpeg:https://www.amicsdelaunio.cat/wp-content/uploads/2025/04/VEUS-04-scaled.jpg
END:VEVENT
END:VCALENDAR