BEGIN:VCALENDAR
VERSION:2.0
PRODID:-//Societat Coral Amics de la Unió - ECPv5.7.0//NONSGML v1.0//EN
CALSCALE:GREGORIAN
METHOD:PUBLISH
X-WR-CALNAME:Societat Coral Amics de la Unió
X-ORIGINAL-URL:https://www.amicsdelaunio.cat
X-WR-CALDESC:Esdeveniments per Societat Coral Amics de la Unió
BEGIN:VTIMEZONE
TZID:Europe/Paris
BEGIN:DAYLIGHT
TZOFFSETFROM:+0100
TZOFFSETTO:+0200
TZNAME:CEST
DTSTART:20250330T010000
END:DAYLIGHT
BEGIN:STANDARD
TZOFFSETFROM:+0200
TZOFFSETTO:+0100
TZNAME:CET
DTSTART:20251026T010000
END:STANDARD
END:VTIMEZONE
BEGIN:VEVENT
DTSTART;TZID=Europe/Paris:20251122T123000
DTEND;TZID=Europe/Paris:20251122T140000
DTSTAMP:20260426T055610
CREATED:20250425T145329Z
LAST-MODIFIED:20251028T102313Z
UID:9691-1763814600-1763820000@www.amicsdelaunio.cat
SUMMARY:Concert Solidari per Santa Cecília
DESCRIPTION:🎟️​ Compra la teva entrada aquí \n📍​ Sala Tarafa\, Granollers \nCada any\, la nostra entitat vol prestar una atenció especial a la vessant més social que va caracteritzar els seus orígens i per això organitza concerts que defensin la música com una eina de canvi. \nEnguany\, el concert del matí anirà a càrrec dels combos de l‘escola i el Cor d’Inicis que us portaran la fantasia i els seus personatges amb un repertori on bruixes\, fades\, follets\, dracs ferotges i unicorns fantàstics sonaran per col·laborar amb la Campanya de Joguines de la Creu Roja. \n  \nCor d’Inicis  \nMaria Illa\, directora
URL:https://www.amicsdelaunio.cat/agenda/audicions-dinstrument-2-2/
LOCATION:Sala Tarafa\, Carrer de Corró\, 47\, 08401 Granollers\, Barcelona
CATEGORIES:Alumnat d'instruments,Cor d'Inicis,Escola Granollers,General
ATTACH;FMTTYPE=image/jpeg:https://www.amicsdelaunio.cat/wp-content/uploads/2025/04/inicis-regu.jpg
END:VEVENT
BEGIN:VEVENT
DTSTART;TZID=Europe/Paris:20251122T190000
DTEND;TZID=Europe/Paris:20251122T203000
DTSTAMP:20260426T055610
CREATED:20250425T145329Z
LAST-MODIFIED:20251028T105517Z
UID:9694-1763838000-1763843400@www.amicsdelaunio.cat
SUMMARY:Concert Solidari per Santa Cecília
DESCRIPTION:🎟️​ Compra la teva entrada aquí \n📍​ Sala Tarafa\, Granollers \nCada any\, la nostra entitat vol prestar una atenció especial a la vessant més social que va caracteritzar els seus orígens i per això organitza concerts que defensin la música com una eina de canvi. \nA la tarda\, el Cor Gaia comptarà amb un cor convidat\, la Coral Masveu per oferir un concert solidari que destinarà els seus beneficis a la campanya de joguines d’enguany de la Creu Roja. \n  \nCor Gaia  \nMaria Illa\, directora \nCoral Masveu \nMaria Millet\, directora
URL:https://www.amicsdelaunio.cat/agenda/audicions-dinstrument-2-2-2/
LOCATION:Sala Tarafa\, Carrer de Corró\, 47\, 08401 Granollers\, Barcelona
CATEGORIES:Cor Gaia Amics de la Unió,Escola Granollers,General
ATTACH;FMTTYPE=image/jpeg:https://www.amicsdelaunio.cat/wp-content/uploads/2024/12/IT2A0057-scaled.jpg
END:VEVENT
BEGIN:VEVENT
DTSTART;TZID=Europe/Paris:20251122T200000
DTEND;TZID=Europe/Paris:20251122T213000
DTSTAMP:20260426T055610
CREATED:20230124T100708Z
LAST-MODIFIED:20251016T161348Z
UID:9496-1763841600-1763847000@www.amicsdelaunio.cat
SUMMARY:Missa Solemnis Santa Cecília de Charles Gounod
DESCRIPTION:🎟️​ Compra les entrades aquí.\n📍​ Teatre Auditori de Granollers \nMahler Totenfeier (primer moviment de la Segona Simfonia en Do menor)\nEl significat literari del primer moviment va ser donat pel mateix Mahler. Conscient de produir unes obres basades en motius transcendents\, explora en la seva segona simfonia un dels misteris de la vida\, la qual cosa passa després de la mort. Vol respondre a les importants preguntes del gènere humà\, el perquè vivim\, el perquè dels nostres sofriments. La seva resposta es basa en les seves creences cristianes d’una vida futura\, en la resurrecció. En aquest moviment assistim als solemnes funerals del nostre heroi\, el Titan que ha mort en la primera simfonia. El dramatisme de la mort queda ennoblit pel consol d’una resurrecció. El primer moviment va ser acabat a Praga el mes d’agost de 1888 amb el títol de “Totenfeier”\, cerimònia fúnebre. Però aquesta obra no va tenir continuació durant cinc anys\, convertint-se en una composició independent. Mahler va dirigir la Totenfeier com a obra independent una vegada\, el 16 de març de 1896 a Berlín\, és a dir\, després de l’estrena de la Simfonia núm. 2 completa.\n\nEn aquest concert proposem un viatge trascendent  des d’aquesta “ Cerimonia fúnebre “del primer moviment de la Segona simfonia  a la misa de  Santa Cecilia de Gounod .\nTot i que avui és recordat sobretot per òperes com Romeu i Julieta o Faust\, Charles Gounod va ser un prolífic creador de música religiosa. Aquesta missa\, dedicada a la patrona de la música\, és la seva obra sacra més coneguda i forma part del gran repertori litúrgic del Romanticisme. El compositor\, que vivia intensament la seva fe cristiana i havia estat a punt de dedicar-se al sacerdoci\, va aplicar en aquesta missa el seu ideari sobre què havia de ser la música religiosa. Segons Gounod “Palestrina i Bach són els pares de l’Església\, per això és important que nosaltres en seguim sent els fills” i per això la seva música ofereix un elegant equilibri de textures i simplicitat harmònica combinant l’estil dels mestres renaixentistes amb elements de l’òpera moderna. \nUn concert ple d’espiritualitat i bellesa melòdica \n  \nCor Jove Amics de la Unió \nMarta Dosaiguas\, directora \nArs Vocalis Esposende de Portugal \nHelena Venda\, directora \nJove Orquestra Simfònica de Barcelona \nCarlos Checa\, director \nAna Arias\, soprano \nJoan Folqué. tenor \nIago García Rojas\, baríton \nCarlos Checa\, direcció
URL:https://www.amicsdelaunio.cat/agenda/missasolemnis/
LOCATION:Teatre Auditori de Granollers\, Carrer de Josep Torras i Bages\, 50\, Granollers\, Barcelona\, 08401\, Espanya
CATEGORIES:Cor Jove,General
ATTACH;FMTTYPE=image/jpeg:https://www.amicsdelaunio.cat/wp-content/uploads/2025/04/Captura-de-pantalla-2025-09-30-121534.jpg
END:VEVENT
END:VCALENDAR