BEGIN:VCALENDAR
VERSION:2.0
PRODID:-//Societat Coral Amics de la Unió - ECPv5.7.0//NONSGML v1.0//EN
CALSCALE:GREGORIAN
METHOD:PUBLISH
X-WR-CALNAME:Societat Coral Amics de la Unió
X-ORIGINAL-URL:https://www.amicsdelaunio.cat
X-WR-CALDESC:Esdeveniments per Societat Coral Amics de la Unió
BEGIN:VTIMEZONE
TZID:Europe/Paris
BEGIN:DAYLIGHT
TZOFFSETFROM:+0100
TZOFFSETTO:+0200
TZNAME:CEST
DTSTART:20260329T010000
END:DAYLIGHT
BEGIN:STANDARD
TZOFFSETFROM:+0200
TZOFFSETTO:+0100
TZNAME:CET
DTSTART:20261025T010000
END:STANDARD
END:VTIMEZONE
BEGIN:VEVENT
DTSTART;TZID=Europe/Paris:20260421T190000
DTEND;TZID=Europe/Paris:20260421T200000
DTSTAMP:20260425T153814
CREATED:20250401T073458Z
LAST-MODIFIED:20260330T095353Z
UID:9870-1776798000-1776801600@www.amicsdelaunio.cat
SUMMARY:Concurs de composició
DESCRIPTION:🎟️ Entrada lliure \n📍Sala Sant Francesc \nCada any convoquem un concurs de composició entre tots els nostres alumnes per tal de potenciar la seva creativitat musical. Les composicions es preparen a classe amb l’ajut del professorat en funció de l’edat i el nivell. Pels voltants de la diada de Sant Jordi es fa el lliurament de premis en el que també es poden escoltar les obres guanyadores interpretades pel professorat de l’escola.
URL:https://www.amicsdelaunio.cat/agenda/concurs-de-composicio-2/
LOCATION:Sala Sant Francesc\, Granollers
CATEGORIES:Escola Granollers,General
ATTACH;FMTTYPE=image/jpeg:https://www.amicsdelaunio.cat/wp-content/uploads/2025/04/WhatsApp-Image-2024-04-25-at-10.52.03.jpeg
END:VEVENT
END:VCALENDAR