BEGIN:VCALENDAR
VERSION:2.0
PRODID:-//Societat Coral Amics de la Unió - ECPv5.7.0//NONSGML v1.0//EN
CALSCALE:GREGORIAN
METHOD:PUBLISH
X-WR-CALNAME:Societat Coral Amics de la Unió
X-ORIGINAL-URL:https://www.amicsdelaunio.cat
X-WR-CALDESC:Esdeveniments per Societat Coral Amics de la Unió
BEGIN:VTIMEZONE
TZID:Europe/Paris
BEGIN:DAYLIGHT
TZOFFSETFROM:+0100
TZOFFSETTO:+0200
TZNAME:CEST
DTSTART:20260329T010000
END:DAYLIGHT
BEGIN:STANDARD
TZOFFSETFROM:+0200
TZOFFSETTO:+0100
TZNAME:CET
DTSTART:20261025T010000
END:STANDARD
END:VTIMEZONE
BEGIN:VEVENT
DTSTART;TZID=Europe/Paris:20260424T193000
DTEND;TZID=Europe/Paris:20260424T203000
DTSTAMP:20260425T170015
CREATED:20241224T105140Z
LAST-MODIFIED:20260330T113831Z
UID:9849-1777059000-1777062600@www.amicsdelaunio.cat
SUMMARY:Vetllada Musical
DESCRIPTION:🎟️ Entrada lliure \n📍 Sala Sant Francesc \nQuarta Vetllada Musical del curs 25-26 \nNomés podem aprendre a pujar dalt d’un escenari si ho fem moltes vegades\, per això organitzem aquest cicle de concerts dirigit a alumnes de tots els nivells de l’escola. D’aquesta manera\, oferim la possibilitat de mostrar el repertori treballat al llarg del curs als companys i familiars\, per gaudir d’una estona de música variada més enllà de les audicions semestrals. Gaudim plegats d’una estona de música variada en un ambient informal i proper.  \n  \nEntrada lliure
URL:https://www.amicsdelaunio.cat/agenda/divendres-musical-2-2-2-2-2-2/
LOCATION:Sala Sant Francesc\, Granollers
CATEGORIES:Alumnat d'instruments,Escola Granollers
ATTACH;FMTTYPE=image/jpeg:https://www.amicsdelaunio.cat/wp-content/uploads/2024/12/WhatsApp-Image-2024-12-02-at-17.35.19-4.jpeg
END:VEVENT
END:VCALENDAR