BEGIN:VCALENDAR
VERSION:2.0
PRODID:-//Societat Coral Amics de la Unió - ECPv5.7.0//NONSGML v1.0//EN
CALSCALE:GREGORIAN
METHOD:PUBLISH
X-WR-CALNAME:Societat Coral Amics de la Unió
X-ORIGINAL-URL:https://www.amicsdelaunio.cat
X-WR-CALDESC:Esdeveniments per Societat Coral Amics de la Unió
BEGIN:VTIMEZONE
TZID:Europe/Paris
BEGIN:DAYLIGHT
TZOFFSETFROM:+0100
TZOFFSETTO:+0200
TZNAME:CEST
DTSTART:20250330T010000
END:DAYLIGHT
BEGIN:STANDARD
TZOFFSETFROM:+0200
TZOFFSETTO:+0100
TZNAME:CET
DTSTART:20251026T010000
END:STANDARD
END:VTIMEZONE
BEGIN:VEVENT
DTSTART;TZID=Europe/Paris:20251214T193000
DTEND;TZID=Europe/Paris:20251214T203000
DTSTAMP:20260425T141730
CREATED:20241224T105140Z
LAST-MODIFIED:20251201T113138Z
UID:9723-1765740600-1765744200@www.amicsdelaunio.cat
SUMMARY:Sing Gaia\, it's Christmas
DESCRIPTION:🎟️ Compra les teves entrades  \n📍 Teatre Auditori de Granollers \n\n\n\n\nEl Cor Gaia ens oferirà\, a l’últim concert de la jornada\, un repertori pop femení variat i animat\, junt amb Nadales americanes de sempre. Un concert fresc i Nadalenc per crear ambient i gaudir d’una bona estona musical en família.  \nFitxa artística:\nCor Gaia\, Maria Illa (directora)\nViviana Salisi\, piano
URL:https://www.amicsdelaunio.cat/agenda/divendres-musical-2-2-2-2-3-2-2/
LOCATION:Teatre Auditori de Granollers\, Carrer de Josep Torras i Bages\, 50\, Granollers\, Barcelona\, 08401\, Espanya
CATEGORIES:Cor Gaia Amics de la Unió,Escola Granollers
ATTACH;FMTTYPE=image/jpeg:https://www.amicsdelaunio.cat/wp-content/uploads/2024/12/Concert-nadal-tarda-Gaia.jpg
END:VEVENT
END:VCALENDAR