BEGIN:VCALENDAR
VERSION:2.0
PRODID:-//Societat Coral Amics de la Unió - ECPv5.7.0//NONSGML v1.0//EN
CALSCALE:GREGORIAN
METHOD:PUBLISH
X-WR-CALNAME:Societat Coral Amics de la Unió
X-ORIGINAL-URL:https://www.amicsdelaunio.cat
X-WR-CALDESC:Esdeveniments per Societat Coral Amics de la Unió
BEGIN:VTIMEZONE
TZID:Europe/Paris
BEGIN:DAYLIGHT
TZOFFSETFROM:+0100
TZOFFSETTO:+0200
TZNAME:CEST
DTSTART:20250330T010000
END:DAYLIGHT
BEGIN:STANDARD
TZOFFSETFROM:+0200
TZOFFSETTO:+0100
TZNAME:CET
DTSTART:20251026T010000
END:STANDARD
END:VTIMEZONE
BEGIN:VEVENT
DTSTART;TZID=Europe/Paris:20251214T180000
DTEND;TZID=Europe/Paris:20251214T190000
DTSTAMP:20260425T142213
CREATED:20241224T105140Z
LAST-MODIFIED:20251201T112734Z
UID:9719-1765735200-1765738800@www.amicsdelaunio.cat
SUMMARY:Sobretaula - Concert de Nadal
DESCRIPTION:🎟️ Compra les teves entrades  \n📍 Teatre Auditori de Granollers \nUna taula\, un grup d’amigues i un sopar ben musical. \nRetrobaments\, anècdotes\, confidències\, conflictes i emocions s’enllacen amb les cançons que interpretaran les veus joves del grup vocal Sound8. \nEl públic formarà part d’aquest espectacle íntim i sincer\, ple de tendresa i música coral popular d’arreu. \nFitxa artística:\nSound8\, Maria Illa (directora)\nJuan Ruano\, guitarra
URL:https://www.amicsdelaunio.cat/agenda/divendres-musical-2-2-2-2-3-2/
LOCATION:Teatre Auditori de Granollers\, Carrer de Josep Torras i Bages\, 50\, Granollers\, Barcelona\, 08401\, Espanya
CATEGORIES:Escola Granollers,Sound 8
ATTACH;FMTTYPE=image/png:https://www.amicsdelaunio.cat/wp-content/uploads/2024/12/concert-nadal-tarda-SOBRETAULA-sound8.png
END:VEVENT
END:VCALENDAR