BEGIN:VCALENDAR
VERSION:2.0
PRODID:-//Societat Coral Amics de la Unió - ECPv5.7.0//NONSGML v1.0//EN
CALSCALE:GREGORIAN
METHOD:PUBLISH
X-WR-CALNAME:Societat Coral Amics de la Unió
X-ORIGINAL-URL:https://www.amicsdelaunio.cat
X-WR-CALDESC:Esdeveniments per Societat Coral Amics de la Unió
BEGIN:VTIMEZONE
TZID:Europe/Paris
BEGIN:DAYLIGHT
TZOFFSETFROM:+0100
TZOFFSETTO:+0200
TZNAME:CEST
DTSTART:20260329T010000
END:DAYLIGHT
BEGIN:STANDARD
TZOFFSETFROM:+0200
TZOFFSETTO:+0100
TZNAME:CET
DTSTART:20261025T010000
END:STANDARD
END:VTIMEZONE
BEGIN:VEVENT
DTSTART;TZID=Europe/Paris:20260111T120000
DTEND;TZID=Europe/Paris:20260111T133000
DTSTAMP:20260425T184026
CREATED:20250410T151115Z
LAST-MODIFIED:20250930T113330Z
UID:9529-1768132800-1768138200@www.amicsdelaunio.cat
SUMMARY:El Messies de Händel
DESCRIPTION:🎟️​ compra les teves entrades aquí\n📍​ Palau de la Música Catalana\, Barcelona \nAmb El Messies\, Händel va crear una de les obres més estimades de tot el repertori clàssic. Aquest oratori\, ple de bellesa i solemnitat\, ha esdevingut una tradició indiscutible de les festes de Nadal. La seva música\, emocionant i vibrant\, connecta directament amb el públic gràcies a la força expressiva dels cors i àries i a moments tan universals com l’inconfusible Hallelujah. \nVespres d’Arnadí\, una de les formacions referents en la interpretació amb criteris històrics\, i el Cor de Cambra de Granollers\, sota la direcció de Xavier Puig\, ofereixen una versió seleccionada d’aquesta obra icònica amb un quartet vocal destacat format per Irene Mas (soprano)\, Daniel Folqué (contralt)\, Roger Padullés (tenor) i Josep-Ramon Olivé (baríton) i instruments d’època. Una proposta ideal per gaudir de l’esperit de Nadal amb tota la intensitat i l’autenticitat del barroc. \n  \nIrene Mas\, soprano\nDaniel Folqué\, contralt\nRoger Padullés\, tenor\nJosep-Ramon Olivé\, baríton\nCor de Cambra de Granollers (Josep Vila i Jover\, director)\nVespres d’Arnadí (Dani Espasa\, director)\nXavier Puig\, director
URL:https://www.amicsdelaunio.cat/agenda/elmessiesdehaendel-2/
LOCATION:Palau de la Música Catalana\, Carrer del Palau de la Música\, 4-6\, Barcelona\, Barcelona\, 08002\, Espanya
CATEGORIES:Cor de Cambra,General
ATTACH;FMTTYPE=image/jpeg:https://www.amicsdelaunio.cat/wp-content/uploads/2025/04/Captura-de-pantalla-2025-09-30-122623.jpg
END:VEVENT
END:VCALENDAR