BEGIN:VCALENDAR
VERSION:2.0
PRODID:-//Societat Coral Amics de la Unió - ECPv5.7.0//NONSGML v1.0//EN
CALSCALE:GREGORIAN
METHOD:PUBLISH
X-WR-CALNAME:Societat Coral Amics de la Unió
X-ORIGINAL-URL:https://www.amicsdelaunio.cat
X-WR-CALDESC:Esdeveniments per Societat Coral Amics de la Unió
BEGIN:VTIMEZONE
TZID:Europe/Paris
BEGIN:DAYLIGHT
TZOFFSETFROM:+0100
TZOFFSETTO:+0200
TZNAME:CEST
DTSTART:20250330T010000
END:DAYLIGHT
BEGIN:STANDARD
TZOFFSETFROM:+0200
TZOFFSETTO:+0100
TZNAME:CET
DTSTART:20251026T010000
END:STANDARD
END:VTIMEZONE
BEGIN:VEVENT
DTSTART;VALUE=DATE:20250501
DTEND;VALUE=DATE:20250505
DTSTAMP:20260425T221158
CREATED:20250410T155231Z
LAST-MODIFIED:20250410T155810Z
UID:9242-1746057600-1746403199@www.amicsdelaunio.cat
SUMMARY:Gira a Viena
DESCRIPTION:📍​ Viena\, Austria \nEl Cor Jove Amics de la Unió realitzar una gira de concerts a Viena amb el Wiener JugendChor\, un cor que pertant a l’ajuntament de Viena i que té una escola coral similar al projecte de Societat Coral Amics de la Unió. \n  \nCor Jove Amics de la Unió\nMarta Dosaiguas\, directora
URL:https://www.amicsdelaunio.cat/agenda/gira-a-viena/
LOCATION:Viena\, Austria
CATEGORIES:Cor Jove,General
ATTACH;FMTTYPE=image/jpeg:https://www.amicsdelaunio.cat/wp-content/uploads/2025/04/IT2A0075-1-scaled.jpg
END:VEVENT
BEGIN:VEVENT
DTSTART;TZID=Europe/Paris:20250503T120000
DTEND;TZID=Europe/Paris:20250503T130000
DTSTAMP:20260425T221158
CREATED:20250410T155648Z
LAST-MODIFIED:20250425T144312Z
UID:9251-1746273600-1746277200@www.amicsdelaunio.cat
SUMMARY:Concert d'intercanvi
DESCRIPTION:🎟️​ Entrada lliure\n📍​ Sala Tarafa\, Granollers \nEl Cor Mixt Amics de la Unió acollirà el Cor Luberri Abesbatza de Donosti que retorna la visita que li vàrem fer a l’octubre del 2023.  \nRealitzaran un concert conjunt amb un cant comú. \n  \nCor Mixt Amics de la Unió\nLuc-Olivier Sànchez\, director \nCor Luberri Abesbatza\nJunkal Guerrero\, directora
URL:https://www.amicsdelaunio.cat/agenda/concert-dintercanvi-2/
LOCATION:Sala Tarafa\, Carrer de Corró\, 47\, 08401 Granollers\, Barcelona
CATEGORIES:Cor Mixt Amics de la Unió,General
ATTACH;FMTTYPE=image/jpeg:https://www.amicsdelaunio.cat/wp-content/uploads/2025/04/IT2A0014-scaled.jpg
END:VEVENT
BEGIN:VEVENT
DTSTART;VALUE=DATE:20250510
DTEND;VALUE=DATE:20250512
DTSTAMP:20260425T221158
CREATED:20250401T160937Z
LAST-MODIFIED:20250425T144427Z
UID:9254-1746835200-1747007999@www.amicsdelaunio.cat
SUMMARY:Colònies corals
DESCRIPTION:📍​ Llinars del Vallès \nEls cors de l’escola fan un cap de setmana de colònies. És un moment per conèixer millor els companys mentre es reforça el treball de preparació del concert de final de curs tot gaudint d’activitats de lleure i vetllades lúdiques. \nCor d’Inicis\nMaria Illa i Paula Coronado\, directores \nCor Petits Cantors\nGuifré Canadell i Martí Llobet\, directors \n 
URL:https://www.amicsdelaunio.cat/agenda/colonies-corals/
LOCATION:Casa de Colònies Mogent\, C-35\, km. 100\, 08450 Llinars del Vallès\, Barcelona\, Barcelona
CATEGORIES:General
ATTACH;FMTTYPE=image/jpeg:https://www.amicsdelaunio.cat/wp-content/uploads/2025/04/0.jpg
END:VEVENT
BEGIN:VEVENT
DTSTART;TZID=Europe/Paris:20250511T180000
DTEND;TZID=Europe/Paris:20250511T190000
DTSTAMP:20260425T221158
CREATED:20250401T162924Z
LAST-MODIFIED:20250429T090258Z
UID:9260-1746986400-1746990000@www.amicsdelaunio.cat
SUMMARY:Ilse
DESCRIPTION:🎟️​ Compra les entrades aquí. \nGaudiu del descompte especial del 40 %!\nQuan compris l’entrada\, escull l’opció Escoles de música amb SCAU i introdueix el codi SCAU40.\n📍​ Teatre Auditori de Granollers \nL’espectacle s’inicia amb una Ruth Elias\, supervivent de Theresienstadt i Auschwitz que\, ja gran\, explica les seves vivències als seus néts. Això ens permet fer un flashback sobre la vida al ghetto i sobre com va conèixer Ilse Weber.\nLluny del melodrama fàcil\, aquesta serà una presentació dels fets des dels punts de vista de les dues dones i dels nens que cuidaven. El final serà un cant a la pau i no una plasmació del drama humà. \nVeus – Cor Infantil Amics de la Unió\nJosep Vila Jover\, director \nTraginart Ensemble \nNeus Pàmies\, solista \nCarme Milan\, solista \nMarc Pujol\, solista \nMercè Arànega\, actriu \nRoger Padullés\, llibret \nJordi Domènech\, música \nJosep Vila Jover\, direcció \n 
URL:https://www.amicsdelaunio.cat/agenda/ilse/
LOCATION:Teatre Auditori de Granollers\, Carrer de Josep Torras i Bages\, 50\, Granollers\, Barcelona\, 08401\, Espanya
CATEGORIES:General,Veus
ATTACH;FMTTYPE=image/jpeg:https://www.amicsdelaunio.cat/wp-content/uploads/2025/04/VEUS-04-scaled.jpg
END:VEVENT
BEGIN:VEVENT
DTSTART;TZID=Europe/Paris:20250517T120000
DTEND;TZID=Europe/Paris:20250517T130000
DTSTAMP:20260425T221158
CREATED:20250410T161228Z
LAST-MODIFIED:20250410T161228Z
UID:9272-1747483200-1747486800@www.amicsdelaunio.cat
SUMMARY:M'encanta
DESCRIPTION:🎟️​ Compra les entrades aquí.\n📍​ Auditori de Girona \nEl Cor Jove Amics de la Unió presenta l’espectacle M’encanta\, una proposta de qualitat amb música d’arreu del món. A través de melodies profanes\, sardanes\, poemes musicals o peces sacres\, les veus mixtes de la formació articulen un seguit de peces de qualitat amb una posada en escena de creació pròpia. El programa combina música dels segles XIX\, XX i XXI\, des de la música tradicional de Mèxic fins a alguns espirituals. Una proposta que destaca per la vitalitat d’una formació que\, sota la direcció de Marta Dosaiguas\, transmet energia i acosta la música coral arreu. \nCor Jove Amics de la Unió\nMarta Dosaiguas\, directora
URL:https://www.amicsdelaunio.cat/agenda/mencanta-2/
LOCATION:Auditori de Girona
CATEGORIES:Cor Jove,General
ATTACH;FMTTYPE=image/jpeg:https://www.amicsdelaunio.cat/wp-content/uploads/2025/04/IT2A0063-scaled.jpg
END:VEVENT
BEGIN:VEVENT
DTSTART;TZID=Europe/Paris:20250526T170000
DTEND;TZID=Europe/Paris:20250606T200000
DTSTAMP:20260425T221158
CREATED:20250425T145329Z
LAST-MODIFIED:20250425T145329Z
UID:9288-1748278800-1749240000@www.amicsdelaunio.cat
SUMMARY:Audicions d'instrument
DESCRIPTION:🎟️​ Entrada lliure\n📍​ Sala Sant Francesc\, Granollers \nDos cops l’any\, tots els alumnes d’instrument presenten davant dels seus familiars els coneixements que han adquirit. Les audicions serveixen per mostrar l’evolució dels alumnes i el resultat de la feina realitzada i també perquè agafin l’hàbit de tocar en públic. \n 
URL:https://www.amicsdelaunio.cat/agenda/audicions-dinstrument/
LOCATION:Sala Sant Francesc\, Granollers
CATEGORIES:Alumnat d'instruments,General
ATTACH;FMTTYPE=image/jpeg:https://www.amicsdelaunio.cat/wp-content/uploads/2025/04/WhatsApp-Image-2023-11-28-at-17.48.00.jpg
END:VEVENT
BEGIN:VEVENT
DTSTART;TZID=Europe/Paris:20250526T190000
DTEND;TZID=Europe/Paris:20250526T203000
DTSTAMP:20260425T221158
CREATED:20230124T100708Z
LAST-MODIFIED:20250410T161509Z
UID:9246-1748286000-1748291400@www.amicsdelaunio.cat
SUMMARY:El Monstre al Laberint
DESCRIPTION:🎟️​ Compra les entrades aquí.\n📍​ Gran Teatre del Liceu\, Barcelona \nEl Monstre al Laberint és una òpera de Jonathan Dove que s’inspira en el mite clàssic de Teseu i el minotaure. La proposta escènica que signa Paco Azorín estableix un paral·lelisme entre el viatge que emprenen els joves d’Atenes en el mite amb el viatge que cada dia fan centenars de persones que es llencen al Mediterrani buscant una vida més digna. L’obra està concebut com una creació col·lectiva en què centenars de joves de diversos instituts i centres educatius comparteixen escenari amb professionals de la música i les arts escèniques. El projecte pretén oferir als joves\, a banda d’una experiència artística\, un viatge iniciàtic en la cultura i el pensament. Un projecte participatiu que ens dona l’oportunitat d’apropar-nos a l’òpera\, ja sigui venint de públic o pujant a l’escenari. \n  \nCor Jove Amics de la Unió \nMarta Dosaiguas\, directora \nOrquestra del Conservatori del Liceu \nManel Valdivieso\, direcció \nCoral Càrmina \nDaniel Mestre\, director \nCors de Joves de diferents Centres Educatius
URL:https://www.amicsdelaunio.cat/agenda/el-monstre-al-laberint-2-2-2/
LOCATION:Gran Teatre del Liceu\, La Rambla\, 51-59\, Barcelona\, Barcelona\, 08002
CATEGORIES:Cor Jove,General
ATTACH;FMTTYPE=image/jpeg:https://www.amicsdelaunio.cat/wp-content/uploads/2023/07/IT2A0063-scaled.jpg
END:VEVENT
BEGIN:VEVENT
DTSTART;TZID=Europe/Paris:20250527T190000
DTEND;TZID=Europe/Paris:20250527T203000
DTSTAMP:20260425T221158
CREATED:20230124T100708Z
LAST-MODIFIED:20250410T161928Z
UID:9249-1748372400-1748377800@www.amicsdelaunio.cat
SUMMARY:El Monstre al Laberint
DESCRIPTION:🎟️​ Compra les entrades aquí.\n📍​ Gran Teatre del Liceu\, Barcelona \nEl Monstre al Laberint és una òpera de Jonathan Dove que s’inspira en el mite clàssic de Teseu i el minotaure. La proposta escènica que signa Paco Azorín estableix un paral·lelisme entre el viatge que emprenen els joves d’Atenes en el mite amb el viatge que cada dia fan centenars de persones que es llencen al Mediterrani buscant una vida més digna. L’obra està concebut com una creació col·lectiva en què centenars de joves de diversos instituts i centres educatius comparteixen escenari amb professionals de la música i les arts escèniques. El projecte pretén oferir als joves\, a banda d’una experiència artística\, un viatge iniciàtic en la cultura i el pensament. Un projecte participatiu que ens dona l’oportunitat d’apropar-nos a l’òpera\, ja sigui venint de públic o pujant a l’escenari. \n  \nCor Jove Amics de la Unió \nMarta Dosaiguas\, directora \nOrquestra del Conservatori del Liceu \nManel Valdivieso\, direcció \nCoral Càrmina \nDaniel Mestre\, director \nCors de Joves de diferents Centres Educatius
URL:https://www.amicsdelaunio.cat/agenda/el-monstre-al-laberint-2-2-2-2/
LOCATION:Gran Teatre del Liceu\, La Rambla\, 51-59\, Barcelona\, Barcelona\, 08002
CATEGORIES:Cor Jove,General
ATTACH;FMTTYPE=image/jpeg:https://www.amicsdelaunio.cat/wp-content/uploads/2023/07/IT2A0063-scaled.jpg
END:VEVENT
END:VCALENDAR