BEGIN:VCALENDAR
VERSION:2.0
PRODID:-//Societat Coral Amics de la Unió - ECPv5.7.0//NONSGML v1.0//EN
CALSCALE:GREGORIAN
METHOD:PUBLISH
X-WR-CALNAME:Societat Coral Amics de la Unió
X-ORIGINAL-URL:https://www.amicsdelaunio.cat
X-WR-CALDESC:Esdeveniments per Societat Coral Amics de la Unió
BEGIN:VTIMEZONE
TZID:Europe/Paris
BEGIN:DAYLIGHT
TZOFFSETFROM:+0100
TZOFFSETTO:+0200
TZNAME:CEST
DTSTART:20250330T010000
END:DAYLIGHT
BEGIN:STANDARD
TZOFFSETFROM:+0200
TZOFFSETTO:+0100
TZNAME:CET
DTSTART:20251026T010000
END:STANDARD
END:VTIMEZONE
BEGIN:VEVENT
DTSTART;TZID=Europe/Paris:20250526T170000
DTEND;TZID=Europe/Paris:20250606T200000
DTSTAMP:20260425T153754
CREATED:20250425T145329Z
LAST-MODIFIED:20250425T145329Z
UID:9288-1748278800-1749240000@www.amicsdelaunio.cat
SUMMARY:Audicions d'instrument
DESCRIPTION:🎟️​ Entrada lliure\n📍​ Sala Sant Francesc\, Granollers \nDos cops l’any\, tots els alumnes d’instrument presenten davant dels seus familiars els coneixements que han adquirit. Les audicions serveixen per mostrar l’evolució dels alumnes i el resultat de la feina realitzada i també perquè agafin l’hàbit de tocar en públic. \n 
URL:https://www.amicsdelaunio.cat/agenda/audicions-dinstrument/
LOCATION:Sala Sant Francesc\, Granollers
CATEGORIES:Alumnat d'instruments,General
ATTACH;FMTTYPE=image/jpeg:https://www.amicsdelaunio.cat/wp-content/uploads/2025/04/WhatsApp-Image-2023-11-28-at-17.48.00.jpg
END:VEVENT
BEGIN:VEVENT
DTSTART;TZID=Europe/Paris:20250601T173000
DTEND;TZID=Europe/Paris:20250601T190000
DTSTAMP:20260425T153754
CREATED:20250409T153714Z
LAST-MODIFIED:20250529T093757Z
UID:9330-1748799000-1748804400@www.amicsdelaunio.cat
SUMMARY:Vivaldi: Glòria a la Pietà
DESCRIPTION:🎟️​ Compra les entrades aquí. \n📍​ Església de Santa Anna\, Mataró \nUn concert que ens convida a submergir-nos en l’obra del compositor italià\, interpretant-la amb veus blanques i instrumentació d’època\, tal com es feia al segle XVIII. A través d’obres emblemàtiques com el Credo\, reviurem l’emoció i l’expressivitat de la música de Vivaldi en un ambient íntim i proper. Aquesta és una ocasió immillorable per a descobrir el so original de Vivaldi i conèixer la fascinant història de les noies de l’Ospedale della Pietà\, per a qui van ser escrites moltes d’aquestes obres. \nVeus – Cor Infantil Amics de la Unió \nJosep Vila Jover\, director \nOrquestra de Cambra Terrassa 48 \nQuim Térmens\, director \nJordi Casas Bayer\, direcció \nJoan Espuny\, orgue – 15 de juny \nGemma Comín\, Ivet Delgado\, Mariona Salamero\, Irvin Sánchez i Berta Vila\, solistes \n 
URL:https://www.amicsdelaunio.cat/agenda/vivaldi-gloria-a-la-pieta-2/
LOCATION:Església Santa Anna de Mataró\, Pl. de Santa Anna\, 21\, 08302 Mataró\, Barcelona\, Mataró\, Barcelona
CATEGORIES:General,Veus
ATTACH;FMTTYPE=image/jpeg:https://www.amicsdelaunio.cat/wp-content/uploads/2025/04/VEUS-02-1-scaled.jpg
END:VEVENT
BEGIN:VEVENT
DTSTART;TZID=Europe/Paris:20250601T180000
DTEND;TZID=Europe/Paris:20250601T200000
DTSTAMP:20260425T153754
CREATED:20250410T154026Z
LAST-MODIFIED:20250601T113409Z
UID:9343-1748800800-1748808000@www.amicsdelaunio.cat
SUMMARY:Concert de combos
DESCRIPTION:🎟️​ Entrada lliure \n📍​ Sala Tarafa\, Granollers \nEls combos de l’escola oferiran el seu repertori en el concert de final de curs.\nTocar en grup és una part fonamental de l’aprenentatge i compartir-ho i gaudir-ho plegats\, una motivació addicional per l’alumnat. \nCombos de l’escola \n  \n 
URL:https://www.amicsdelaunio.cat/agenda/concert-de-combos/
LOCATION:Sala Tarafa\, Carrer de Corró\, 47\, 08401 Granollers\, Barcelona
CATEGORIES:General
ATTACH;FMTTYPE=image/jpeg:https://www.amicsdelaunio.cat/wp-content/uploads/2025/04/WhatsApp-Image-2025-01-27-at-11.53.18.jpg
END:VEVENT
BEGIN:VEVENT
DTSTART;TZID=Europe/Paris:20250603T200000
DTEND;TZID=Europe/Paris:20250603T210000
DTSTAMP:20260425T153754
CREATED:20250410T154202Z
LAST-MODIFIED:20250410T154202Z
UID:9345-1748980800-1748984400@www.amicsdelaunio.cat
SUMMARY:Concert Fundació La Caixa
DESCRIPTION:🎟️​ Entrades properament \n📍​ Teatre Real\, Madrid  \nEl concert\, amb un component divulgatiu destacat\, dedicat a Bach i Händel. S’interpreten fragments de les seves obres més reconegudes amb una varietat d’instrumentacions que aniran des d’oratoris i àries d’òpera fins a suites\, concerts i peces corals. \nVeus – Cor Infantil Amics de la Unió \nJosep Vila Jover\, director \nCor Intermezzo \nMiguel Ángel Arqued\, preparador de cors \nOrquestra Barroca Catalana \nMarzio Conti\, direcció
URL:https://www.amicsdelaunio.cat/agenda/concert-fundacio-la-caixa/
LOCATION:Teatre Reial\, Pl. de Isabel II\, s/n\, Centro\, 28013 Madrid\, Madrid\, Madrid
CATEGORIES:General,Veus
ATTACH;FMTTYPE=image/jpeg:https://www.amicsdelaunio.cat/wp-content/uploads/2025/04/VEUS-02-2-scaled.jpg
END:VEVENT
BEGIN:VEVENT
DTSTART;TZID=Europe/Paris:20250607T200000
DTEND;TZID=Europe/Paris:20250607T200000
DTSTAMP:20260425T153754
CREATED:20250410T154520Z
LAST-MODIFIED:20250425T093815Z
UID:9354-1749326400-1749326400@www.amicsdelaunio.cat
SUMMARY:Kinky Boots
DESCRIPTION:🎟️​ Entrades aquí\n📍​Teatre Auditori Can Palots\, Canovelles \nEl Cor Mixt Amics de la Unió porta a escena el musical Kinky Boots. Una proposta enlluernadora\, divertida\, emocionant i inspiradora! Un musical inspirat principalment en fets reals que explica la història de Charlie Price. Després d’haver heretat una fàbrica de sabates del seu pare\, Charlie forma una col·laboració improbable amb l’intèrpret de cabaret i drag queen Lola per produir una línia de botes de taló alt i salvar el negoci. En el procés\, Charlie i Lola descobreixen que al cap i a la fi no són tan diferents. \nAmb música de Cyndi Lauper i llibret de Harvey Fierstein. \n  \nCor Mixt Amics de la Unió\nLuc-Olivier Sànchez\, director \n  \n\nhttps://www.amicsdelaunio.cat/wp-content/uploads/2025/04/IG-Cartells-Kinky-Boots.mp4
URL:https://www.amicsdelaunio.cat/agenda/kinky-boots-2/
LOCATION:Teatre Auditori Can Palots
CATEGORIES:Cor Mixt Amics de la Unió,Veus
ATTACH;FMTTYPE=image/jpeg:https://www.amicsdelaunio.cat/wp-content/uploads/2025/04/IT2A0014-scaled.jpg
END:VEVENT
BEGIN:VEVENT
DTSTART;TZID=Europe/Paris:20250607T200000
DTEND;TZID=Europe/Paris:20250607T210000
DTSTAMP:20260425T153754
CREATED:20250409T150956Z
LAST-MODIFIED:20250409T150956Z
UID:9318-1749326400-1749330000@www.amicsdelaunio.cat
SUMMARY:Ilse
DESCRIPTION:🎟️​ Compra les entrades aquí. \n📍​ Teatre de Vilaseca \nL’espectacle s’inicia amb una Ruth Elias\, supervivent de Theresienstadt i Auschwitz que\, ja gran\, explica les seves vivències als seus néts. Això ens permet fer un flashback sobre la vida al ghetto i sobre com va conèixer Ilse Weber.\nLluny del melodrama fàcil\, aquesta serà una presentació dels fets des dels punts de vista de les dues dones i dels nens que cuidaven. El final serà un cant a la pau i no una plasmació del drama humà. \nVeus – Cor Infantil Amics de la Unió\nJosep Vila Jover\, director \nTraginart Ensemble \nNeus Pàmies\, solista \nCarme Milan\, solista \nMarc Pujol\, solista \nMercè Arànega\, actriu \nRoger Padullés\, llibret \nJordi Domènech\, música \nJosep Vila Jover\, direcció
URL:https://www.amicsdelaunio.cat/agenda/ilse-2/
LOCATION:Teatre de Vilaseca\, Carrer del Patró\, 8\, Vila-seca\, Vilaseca\, Tarragona\, 43480
CATEGORIES:General,Veus
ATTACH;FMTTYPE=image/jpeg:https://www.amicsdelaunio.cat/wp-content/uploads/2025/04/VEUS-02-scaled.jpg
END:VEVENT
BEGIN:VEVENT
DTSTART;VALUE=DATE:20250608
DTEND;VALUE=DATE:20250609
DTSTAMP:20260425T153754
CREATED:20241230T160328Z
LAST-MODIFIED:20250601T113210Z
UID:9099-1749340800-1749427199@www.amicsdelaunio.cat
SUMMARY:Concerts final de curs
DESCRIPTION:🎟️​ entrades a Entràpolis \n10.30h Concert Cor d’Inicis aquí \n12.30h Concert Cor Minimúsics aquí \n18h Concert Cor Petits Cantors i Cor Allegro aquí \n📍 Teatre Auditori Can Palots \n  \nL’Escola Coral es prepara per oferir els concerts de final de curs. \nA la primera sessió del matí\, els nadons ens portaran 2 propostes i el Cor Minimúsics presentarà la cantata La Vaca Florinda\, una vaca que vol ser pallassa i viu unes inquietants i divertides aventures.\nAl migdia\, el Cor d’Inicis interpretarà els Blues Brothers.\nA la sessió de la tarda\, el Cor Petits Cantors interpretarà la cantata El Patufet i amb el Cor Allegro farem un recorregut per les BSO de Pixar. \nCor Minimúsics\nPaula Coronado\, Mireia Sagalés\, Montse Trisan i Laia Vera\, directores \nCor d’Inicis\nMaria Illa i Paula Coronado\, directores \nCor Petits Cantors\nGuifré Canadel i Martí Llobet\, directors \nCor Allegro\nMartí Carreras\, director \n 
URL:https://www.amicsdelaunio.cat/agenda/concerts-final-de-curs/
LOCATION:Teatre Auditori Can Palots
CATEGORIES:Cor Allegro,Cor d'Inicis,Cor Minimúsics,Cor Petits Cantors,Escola Granollers,Sound 8
ATTACH;FMTTYPE=image/jpeg:https://www.amicsdelaunio.cat/wp-content/uploads/2024/12/IMG20240609093117-scaled.jpg
END:VEVENT
BEGIN:VEVENT
DTSTART;TZID=Europe/Paris:20250608T180000
DTEND;TZID=Europe/Paris:20250608T190000
DTSTAMP:20260425T153754
CREATED:20250409T150956Z
LAST-MODIFIED:20250429T090121Z
UID:9325-1749405600-1749409200@www.amicsdelaunio.cat
SUMMARY:Ilse
DESCRIPTION:🎟️​ Compra les entrades aquí. \n📍​ Centre Cultural Municipal de Valls \nL’espectacle s’inicia amb una Ruth Elias\, supervivent de Theresienstadt i Auschwitz que\, ja gran\, explica les seves vivències als seus néts. Això ens permet fer un flashback sobre la vida al ghetto i sobre com va conèixer Ilse Weber.\nLluny del melodrama fàcil\, aquesta serà una presentació dels fets des dels punts de vista de les dues dones i dels nens que cuidaven. El final serà un cant a la pau i no una plasmació del drama humà. \nVeus – Cor Infantil Amics de la Unió\nJosep Vila Jover\, director \nTraginart Ensemble \nNeus Pàmies\, solista \nCarme Milan\, solista \nMarc Pujol\, solista \nMercè Arànega\, actriu \nRoger Padullés\, llibret \nJordi Domènech\, música \nJosep Vila Jover\, direcció
URL:https://www.amicsdelaunio.cat/agenda/ilse-2-2/
LOCATION:Centre Cultural Municipal de Valls\, Plaça Francesc Layret\, 43800 Valls\, Tarragona\, Valls\, Tarragona\, 43800
CATEGORIES:General,Veus
ATTACH;FMTTYPE=image/jpeg:https://www.amicsdelaunio.cat/wp-content/uploads/2025/04/VEUS-02-scaled.jpg
END:VEVENT
BEGIN:VEVENT
DTSTART;TZID=Europe/Paris:20250614T180000
DTEND;TZID=Europe/Paris:20250614T200000
DTSTAMP:20260425T153754
CREATED:20250410T152715Z
LAST-MODIFIED:20250601T113324Z
UID:9360-1749924000-1749931200@www.amicsdelaunio.cat
SUMMARY:Concert fi de curs
DESCRIPTION:🎟️​ Entrades properament\n📍​ Sala Tarafa\, Granollers \nEl Cor Gaia i el Cor Arpegi oferiran un concert que constarà de dues parts. En primer lloc\, el cor femení interpretarà una selecció del seu repertori de dones intèrpretes i compositores i seguidament\, el Cor Arpegi portarà la seva producció Madrigal: Veus del Renaixement\, Polifonia en Quatre Llengües. Aquest programa ofereix un viatge sonor a través de quatre grans escoles madrigalesques: l’anglesa\, plena de lirisme i delicadesa expressiva; la francesa\, elegant i subtil en la seva retòrica musical; la italiana\, d’intensa passió i dramatisme; i l’espanyola\, amb la seva riquesa harmònica i el seu caràcter profundament evocador. A través d’aquesta selecció de madrigals\, descobrirem l’exquisida varietat d’un gènere que captiva per la seva bellesa i emoció atemporal. \n  \nCor Arpegi Amics de la Unió\nGuillem Ponsi\, director \nCor Gaia Amics de la Unió\nMaria Illa\, directora
URL:https://www.amicsdelaunio.cat/agenda/concert-fi-de-curs/
LOCATION:Sala Tarafa\, Carrer de Corró\, 47\, 08401 Granollers\, Barcelona
CATEGORIES:Cor Arpegi Amics de la Unió,Cor Gaia Amics de la Unió,General
ATTACH;FMTTYPE=image/png:https://www.amicsdelaunio.cat/wp-content/uploads/2025/04/Disseny-sense-títol-1.png
END:VEVENT
BEGIN:VEVENT
DTSTART;TZID=Europe/Paris:20250615T180000
DTEND;TZID=Europe/Paris:20250615T200000
DTSTAMP:20260425T153754
CREATED:20250409T153714Z
LAST-MODIFIED:20250529T094007Z
UID:9339-1750010400-1750017600@www.amicsdelaunio.cat
SUMMARY:Vivaldi: Glòria a la Pietà
DESCRIPTION:🎟️​ Entrades aquí \n📍​ Església de Santa Maria de Capellades \nUn concert que ens convida a submergir-nos en l’obra del compositor italià\, interpretant-la amb veus blanques i instrumentació d’època\, tal com es feia al segle XVIII. A través d’obres emblemàtiques com el Credo\, reviurem l’emoció i l’expressivitat de la música de Vivaldi en un ambient íntim i proper. Aquesta és una ocasió immillorable per a descobrir el so original de Vivaldi i conèixer la fascinant història de les noies de l’Ospedale della Pietà\, per a qui van ser escrites moltes d’aquestes obres. \nVeus – Cor Infantil Amics de la Unió \nJosep Vila Jover\, director \nOrquestra de Cambra Terrassa 48 \nQuim Térmens\, director \nJordi Casas Bayer\, direcció \nJoan Espuny\, orgue – 15 de juny \nGemma Comín\, Ivet Delgado\, Mariona Salamero\, Irvin Sánchez i Berta Vila\, solistes \n 
URL:https://www.amicsdelaunio.cat/agenda/vivaldi-gloria-a-la-pieta/
LOCATION:Església de Santa Maria de Capellades\, Carrer de Ramon Godó\, 4\, 08786 Capellades\, Barcelona\, Barcelona\, Barcelona
CATEGORIES:General,Veus
ATTACH;FMTTYPE=image/jpeg:https://www.amicsdelaunio.cat/wp-content/uploads/2025/04/VEUS-02-1-scaled.jpg
END:VEVENT
BEGIN:VEVENT
DTSTART;TZID=Europe/Paris:20250619T203000
DTEND;TZID=Europe/Paris:20250619T203000
DTSTAMP:20260425T153754
CREATED:20250618T092341Z
LAST-MODIFIED:20250618T092341Z
UID:9453-1750365000-1750365000@www.amicsdelaunio.cat
SUMMARY:Sobretaula
DESCRIPTION:Dijous 19 de juny a les 20.30h us convidem al concert de @sound.eight \nSobretaula\, una taula\, deu amigues i un sopar ben musical \nA la Sala Sant Francesc
URL:https://www.amicsdelaunio.cat/agenda/sobretaula/
LOCATION:Sala Sant Francesc\, Granollers
CATEGORIES:General,Sound 8
ATTACH;FMTTYPE=image/jpeg:https://www.amicsdelaunio.cat/wp-content/uploads/2025/06/CARTELL-SO-8-copia_page-0001.jpg
END:VEVENT
BEGIN:VEVENT
DTSTART;TZID=Europe/Paris:20250620T210000
DTEND;TZID=Europe/Paris:20250620T220000
DTSTAMP:20260425T153754
CREATED:20250410T151115Z
LAST-MODIFIED:20250529T091032Z
UID:9363-1750453200-1750456800@www.amicsdelaunio.cat
SUMMARY:Calidoscopi\, concert solidari
DESCRIPTION:🎟️​ entrades aquí\n📍​ Teatre Auditori de Bellavista\, Les Franqueses del Vallès \nEl Cor de Cambra de Granollers oferirà una selecció d’obres de cant coral contemporani des d’una perspectiva singular\, una experiència amb obres de compositors nascuts els segles XIX i XX.\nCom un calidoscopi\, serà el punt de partida de moltes mirades d’una mateixa imatge. Una explosió de colors en totes les direccions que presenta diferents punts de vista que\, conjuntament\, creen bellesa. Com les múltiples veus d’un cor\, els colors i formes de l’artefacte conviuen\, harmonioses\, en un present efímer que ara us proposem com a concert. \nCor de Cambra de Granollers\nJosep Vila Jover\, director
URL:https://www.amicsdelaunio.cat/agenda/concert-solidari-2/
LOCATION:Teatre Auditori de Bellavista\, Les Franqueses Del Valles\, Barcelona\, Espanya
CATEGORIES:Cor de Cambra,General
ATTACH;FMTTYPE=image/jpeg:https://www.amicsdelaunio.cat/wp-content/uploads/2025/04/FOTO-3-1-scaled.jpg
END:VEVENT
BEGIN:VEVENT
DTSTART;VALUE=DATE:20250621
DTEND;VALUE=DATE:20250625
DTSTAMP:20260425T153754
CREATED:20250410T150821Z
LAST-MODIFIED:20250410T150821Z
UID:9367-1750464000-1750809599@www.amicsdelaunio.cat
SUMMARY:Gira Hamburg
DESCRIPTION:📍​ Hamburg\, Alemania \nEl Cor de Cambra de Granollers farà una gira de concerts a Hamburg on l’acollirà la Choirakademie Hamburg. Oferirà una selecció d’obres de cant coral contemporani des d’una perspectiva singular\, una experiència amb obres de compositors nascuts els segles XIX i XX.\nCom un calidoscopi\, serà el punt de partida de moltes mirades d’una mateixa imatge. Una explosió de colors en totes les direccions que presenta diferents punts de vista que\, conjuntament\, creen bellesa. Com les múltiples veus d’un cor\, els colors i formes de l’artefacte conviuen\, harmonioses\, en un present efímer. \nCor de Cambra de Granollers\nJosep Vila Jover\, director \nChoirakademie Hamburg\nClemens Bergemann\, director
URL:https://www.amicsdelaunio.cat/agenda/gira-hamburg/
LOCATION:Hamburg\, Alemanya
CATEGORIES:Cor de Cambra,General
ATTACH;FMTTYPE=image/jpeg:https://www.amicsdelaunio.cat/wp-content/uploads/2025/04/FOTO-5-scaled.jpg
END:VEVENT
BEGIN:VEVENT
DTSTART;VALUE=DATE:20250628
DTEND;VALUE=DATE:20250715
DTSTAMP:20260425T153754
CREATED:20250410T150618Z
LAST-MODIFIED:20250601T112941Z
UID:9370-1751068800-1752537599@www.amicsdelaunio.cat
SUMMARY:Veus del nord\, cels del sud
DESCRIPTION:📍​ Tasmania i Austràlia \nVeus – Cor Infantil Amics de la Unió realitzarà una gira de concerts a Tasmània i a Austràlia. Veus del nord\, cels del sud aproparà dos móns\, dues cultures\, dues formes de viure el cant coral. \nTot realitzant gires internacionalts\, fem sentir la nostra veu arreu del món\, aprenem d’altres cors i cultures i ens enriquim amb aquest intercanvi artístic\, personal i social. \nVeus – Cor Infantil Amics de la Unió \nJosep Vila Jover\, director
URL:https://www.amicsdelaunio.cat/agenda/veus-del-nord-cels-del-sud/
LOCATION:Tasmània i Austràlia
CATEGORIES:General,Veus
ATTACH;FMTTYPE=image/jpeg:https://www.amicsdelaunio.cat/wp-content/uploads/2025/04/VEUS-04-scaled.jpg
END:VEVENT
END:VCALENDAR