BEGIN:VCALENDAR
VERSION:2.0
PRODID:-//Societat Coral Amics de la Unió - ECPv5.7.0//NONSGML v1.0//EN
CALSCALE:GREGORIAN
METHOD:PUBLISH
X-WR-CALNAME:Societat Coral Amics de la Unió
X-ORIGINAL-URL:https://www.amicsdelaunio.cat
X-WR-CALDESC:Esdeveniments per Societat Coral Amics de la Unió
BEGIN:VTIMEZONE
TZID:Europe/Paris
BEGIN:DAYLIGHT
TZOFFSETFROM:+0100
TZOFFSETTO:+0200
TZNAME:CEST
DTSTART:20250330T010000
END:DAYLIGHT
BEGIN:STANDARD
TZOFFSETFROM:+0200
TZOFFSETTO:+0100
TZNAME:CET
DTSTART:20251026T010000
END:STANDARD
END:VTIMEZONE
BEGIN:VEVENT
DTSTART;TZID=Europe/Paris:20250920T190000
DTEND;TZID=Europe/Paris:20250920T200000
DTSTAMP:20260425T212922
CREATED:20220829T100550Z
LAST-MODIFIED:20250822T152843Z
UID:9465-1758394800-1758398400@www.amicsdelaunio.cat
SUMMARY:Songs of Hope
DESCRIPTION:🎟️​ Compra les teves entrades aquí \n📍 Lo Sindicat\, Flix \nVeus-Cor Infantil Amics de la Unió oferirà un concert a la sala Lo Sindicat de Flix. \nSongs of Hope és l’espectacle més genuí de Veus – Cor Infantil Amics de la Unió. Un so blanc i natural\, una actitud escènica que denota experiència en el treball interpretatiu i la capacitat de comunicar-se amb el públic a través de les emocions són els ingredients que formen la proposta. Estrenat el 2012 sota el títol de VEUS i reeditat el 2018 com a Songs of Hope\, el cor ha trepitjat els escenaris amb una nova manera d’entendre el cant coral. Veus ha portat aquesta concepció de la música arreu d’Europa\, Àsia i els Estats Units l’estiu del 2019. \n  \nVeus – Cor Infantil Amics de la Unió \nJosep Vila Jover\, director \n 
URL:https://www.amicsdelaunio.cat/agenda/songs-of-hope-16-2/
LOCATION:Lo Sindicat\, Flix\, Carrer Joan Maragall\, 14-16\, Flix\, Tarragona\, 43750
CATEGORIES:General,Veus
ATTACH;FMTTYPE=image/jpeg:https://www.amicsdelaunio.cat/wp-content/uploads/2022/08/JFA8812-scaled.jpg
END:VEVENT
BEGIN:VEVENT
DTSTART;TZID=Europe/Paris:20250927T200000
DTEND;TZID=Europe/Paris:20250927T213000
DTSTAMP:20260425T212922
CREATED:20230124T100708Z
LAST-MODIFIED:20250829T155115Z
UID:9470-1759003200-1759008600@www.amicsdelaunio.cat
SUMMARY:Flor de Nit
DESCRIPTION:🎟️​ Compra les entrades aquí.\n📍​ Teatre Auditori de Granollers \nEl Cor Jove Amics de la Unió inaugura la nova temporada del Teatre Auditori de Granollers amb el musical Flor de nit\, un èxit de públic la temporada passada\, amb música d’Albert Guinovart i text de Manuel Vázquez Montalbán\, escrita l’any 1992 per encàrrec de la companyia teatral Dagoll Dagom. \nA diferència dels musicals tradicionals\, Flor de Nit no segueix una trama lineal clara. En canvi\, transporta l’espectador fins a un món oníric on la foscor i la llum s’entrellacen\, creant un ambient ple de misteri i d’intriga. Inspirat en la Barcelona de finals dels anys 20 del segle passat\, l’obra aborda temes com els desitjos ocults\, la fragilitat dels somnis i la bellesa que pot emergir dels racons més inesperats. Mitjançant la música i la paraula\, convida a descobrir què s’amaga darrere del vel de la realitat quotidiana. \n‘Flor de Nit’ ens endinsa en un univers líric i suggeridor que trenca amb les normes del musical clàssic \n  \nCor Jove Amics de la Unió \nMarta Dosaiguas\, direcció musical \nGuillem Lluís\, adaptació musical \nAgnès Casajoana i Berta Llobet\, direcció d’escena i coreografia \nJoana Llach\, disseny d’escenografia\, il·luminació i vestuari \nNúria Pérez\, disseny de vestuari \n  \nConjunt instrumental:\nEduard Acedo\, violí\nAnna Berruezo\, violoncel\nJaume De Dios\, flauta travessera\nFrancesc Vidal\, saxo alto i tenor\nClàudia Bosch\, clarinet\nJaume Peña\, trompeta\nJoan Espuny\, piano\nDani Guisado i Ramon Torramilans\, percussió
URL:https://www.amicsdelaunio.cat/agenda/flor-de-nit-2/
LOCATION:Teatre Auditori de Granollers\, Carrer de Josep Torras i Bages\, 50\, Granollers\, Barcelona\, 08401\, Espanya
CATEGORIES:Cor Jove,General
ATTACH;FMTTYPE=image/jpeg:https://www.amicsdelaunio.cat/wp-content/uploads/2023/01/2024_11_24-3_AMICS-DE-LA-UNIO_COR-JOVE_FLOR-DE-NIT-0812-scaled.jpg
END:VEVENT
BEGIN:VEVENT
DTSTART;TZID=Europe/Paris:20250928T120000
DTEND;TZID=Europe/Paris:20250928T133000
DTSTAMP:20260425T212922
CREATED:20220829T100550Z
LAST-MODIFIED:20250822T152107Z
UID:9461-1759060800-1759066200@www.amicsdelaunio.cat
SUMMARY:Songs of Hope
DESCRIPTION:🎟️​ Compra les teves entrades aquí \n📍 Petit Palau\, Palau de la Música Catalana\, Barcelona \nVeus-Cor Infantil Amics de la Unió oferirà un concert al Petit Palau del Palau de la Música Catalana. \nSongs of Hope és l’espectacle més genuí de Veus – Cor Infantil Amics de la Unió. Un so blanc i natural\, una actitud escènica que denota experiència en el treball interpretatiu i la capacitat de comunicar-se amb el públic a través de les emocions són els ingredients que formen la proposta. Estrenat el 2012 sota el títol de VEUS i reeditat el 2018 com a Songs of Hope\, el cor ha trepitjat els escenaris amb una nova manera d’entendre el cant coral. Veus ha portat aquesta concepció de la música arreu d’Europa\, Àsia i els Estats Units l’estiu del 2019. \n  \nVeus – Cor Infantil Amics de la Unió \nJosep Vila Jover\, director \nCor Infantil Palau Vincles \nGuifré Canadell\, director \nCor Juvenil Palau Vincles \nMariona Fernàndez\, directora \n  \n  \n  \n 
URL:https://www.amicsdelaunio.cat/agenda/songs-of-hope-16/
LOCATION:Petit Palau\, Palau de la Música Catalana
CATEGORIES:General,Veus
ATTACH;FMTTYPE=image/jpeg:https://www.amicsdelaunio.cat/wp-content/uploads/2022/08/JFA8812-scaled.jpg
END:VEVENT
BEGIN:VEVENT
DTSTART;TZID=Europe/Paris:20250928T180000
DTEND;TZID=Europe/Paris:20250928T193000
DTSTAMP:20260425T212922
CREATED:20230124T100708Z
LAST-MODIFIED:20250911T175504Z
UID:9474-1759082400-1759087800@www.amicsdelaunio.cat
SUMMARY:Flor de Nit
DESCRIPTION:🎟️​ Compra les entrades aquí.\n📍​ Teatre Auditori de Granollers \nEl Cor Jove Amics de la Unió inaugura la nova temporada del Teatre Auditori de Granollers amb el musical Flor de nit\, un èxit de públic la temporada passada\, amb música d’Albert Guinovart i text de Manuel Vázquez Montalbán\, escrita l’any 1992 per encàrrec de la companyia teatral Dagoll Dagom. \nA diferència dels musicals tradicionals\, Flor de Nit no segueix una trama lineal clara. En canvi\, transporta l’espectador fins a un món oníric on la foscor i la llum s’entrellacen\, creant un ambient ple de misteri i d’intriga. Inspirat en la Barcelona de finals dels anys 20 del segle passat\, l’obra aborda temes com els desitjos ocults\, la fragilitat dels somnis i la bellesa que pot emergir dels racons més inesperats. Mitjançant la música i la paraula\, convida a descobrir què s’amaga darrere del vel de la realitat quotidiana. \n‘Flor de Nit’ ens endinsa en un univers líric i suggeridor que trenca amb les normes del musical clàssic \n  \nCor Jove Amics de la Unió \nMarta Dosaiguas\, direcció musical \nGuillem Lluís\, adaptació musical \nAgnès Casajoana i Berta Llobet\, direcció d’escena i coreografia \nJoana Llach\, disseny d’escenografia\, il·luminació i vestuari \nNúria Pérez\, disseny de vestuari \n  \nConjunt instrumental:\nEduard Acedo\, violí\nAnna Berruezo\, violoncel\nJaume De Dios\, flauta travessera\nFrancesc Vidal\, saxo alto i tenor\nClàudia Bosch\, clarinet\nJaume Peña\, trompeta\nJoan Espuny\, piano\nDani Guisado i Ramon Torramilans\, percussió
URL:https://www.amicsdelaunio.cat/agenda/flor-de-nit-2-2/
LOCATION:Teatre Auditori de Granollers\, Carrer de Josep Torras i Bages\, 50\, Granollers\, Barcelona\, 08401\, Espanya
CATEGORIES:Cor Jove,General
ATTACH;FMTTYPE=image/jpeg:https://www.amicsdelaunio.cat/wp-content/uploads/2023/01/2024_11_24-3_AMICS-DE-LA-UNIO_COR-JOVE_FLOR-DE-NIT-0812-scaled.jpg
END:VEVENT
BEGIN:VEVENT
DTSTART;TZID=Europe/Paris:20250929T190000
DTEND;TZID=Europe/Paris:20250929T200000
DTSTAMP:20260425T212922
CREATED:20250410T151115Z
LAST-MODIFIED:20250918T092018Z
UID:9568-1759172400-1759176000@www.amicsdelaunio.cat
SUMMARY:Concert Unesco
DESCRIPTION:🎟️​ Acte protocolari\n📍​ Sant Pau\, Recinte Modernista de Barcelona \nEl Cor de Cambra de Granollers amb Orquestra Simfònica del Vallès participen dels actes de Mondiacult 2025\, la Conferència Mundial de Polítiques Culturals i Desenvolupament Sostenible de la Organització de les Nacions Unides per l’Educació\, la Ciència i la Cultura. \n  \nCor de Cambra de Granollers\nJosep Vila Jover\, director \nOrquestra Simfònica del Vallès \nXavier Puig\, director
URL:https://www.amicsdelaunio.cat/agenda/concert_unesco/
LOCATION:Sant Pau\, Recinte Modernista de Barcelona
CATEGORIES:Cor de Cambra,General
ATTACH;FMTTYPE=image/jpeg:https://www.amicsdelaunio.cat/wp-content/uploads/2025/04/FOTO-3-1-scaled.jpg
END:VEVENT
END:VCALENDAR