BEGIN:VCALENDAR
VERSION:2.0
PRODID:-//Societat Coral Amics de la Unió - ECPv5.7.0//NONSGML v1.0//EN
CALSCALE:GREGORIAN
METHOD:PUBLISH
X-WR-CALNAME:Societat Coral Amics de la Unió
X-ORIGINAL-URL:https://www.amicsdelaunio.cat
X-WR-CALDESC:Esdeveniments per Societat Coral Amics de la Unió
BEGIN:VTIMEZONE
TZID:Europe/Paris
BEGIN:DAYLIGHT
TZOFFSETFROM:+0100
TZOFFSETTO:+0200
TZNAME:CEST
DTSTART:20250330T010000
END:DAYLIGHT
BEGIN:STANDARD
TZOFFSETFROM:+0200
TZOFFSETTO:+0100
TZNAME:CET
DTSTART:20251026T010000
END:STANDARD
END:VTIMEZONE
BEGIN:VEVENT
DTSTART;TZID=Europe/Paris:20251108T190000
DTEND;TZID=Europe/Paris:20251108T203000
DTSTAMP:20260426T014818
CREATED:20220829T100550Z
LAST-MODIFIED:20250823T162629Z
UID:9492-1762628400-1762633800@www.amicsdelaunio.cat
SUMMARY:Assemblea European Choral Association\, Songs of Hope
DESCRIPTION:🎟️​ Compra les teves entrades aquí \n📍 Auditori de Girona\, Barcelona \nEn el marc de l’assemblea de l’European Choral Association\, l’Auditori de Girona acull un concert impulsat pel Secretariat de Corals Infantils de Catalunya que reuneix dues de les formacions corals més destacades del país en els àmbits infantil i juvenil. D’una banda\, Veus – Cor Infantil Amics de la Unió\, una formació multipremiada i amb gran projecció internacional\, dirigida des de la seva fundació per Josep Vila i Jover. De l’altra\, el Cor Jove Nacional de Catalunya\, un projecte coral de caràcter formatiu i d’alt nivell artístic\, nascut el 2013 i actualment dirigit per Mireia Barrera. \nVeus-Cor Infantil Amics de la Unió oferirà Songs of Hope el seu espectacle més genuí. Un so blanc i natural\, una actitud escènica que denota experiència en el treball interpretatiu i la capacitat de comunicar-se amb el públic a través de les emocions són els ingredients que formen la proposta. Estrenat el 2012 sota el títol de VEUS i reeditat el 2018 com a Songs of Hope\, el cor ha trepitjat els escenaris amb una nova manera d’entendre el cant coral. Veus ha portat aquesta concepció de la música arreu d’Europa\, Àsia i els Estats Units l’estiu del 2019. \n  \nVeus – Cor Infantil Amics de la Unió \nJosep Vila Jover\, director \nCor Jove Nacional de Catalunya \nMireia Barrera\, directora
URL:https://www.amicsdelaunio.cat/agenda/songs-of-hope-16-4/
LOCATION:Auditori de Girona
CATEGORIES:General,Veus
ATTACH;FMTTYPE=image/jpeg:https://www.amicsdelaunio.cat/wp-content/uploads/2025/04/VEUS-04-scaled.jpg
END:VEVENT
BEGIN:VEVENT
DTSTART;TZID=Europe/Paris:20251114T203000
DTEND;TZID=Europe/Paris:20251114T213000
DTSTAMP:20260426T014818
CREATED:20250410T161020Z
LAST-MODIFIED:20251027T172757Z
UID:9683-1763152200-1763155800@www.amicsdelaunio.cat
SUMMARY:Mans Unides
DESCRIPTION:🎟️​ Compra les teves entrades (properament)  \n📍​ Can Raspall\, La Garriga \nEl cor Sound8 oferirà un concert benèfic per Mans Unides on podreu escoltar el seu repertori de cançons variades a cappella de diferents cultures i autors. \n  \nSound 8 \nMaria Illa\, directora
URL:https://www.amicsdelaunio.cat/agenda/mencanta-3-2-3/
LOCATION:Can Raspall\, Carrer dels Banys\, La Garriga\, Barcelona\, 08530\, Espanya
CATEGORIES:Escola Granollers,General,Sound 8
ATTACH;FMTTYPE=image/jpeg:https://www.amicsdelaunio.cat/wp-content/uploads/2025/04/A-COR-Maria-scaled.jpg
END:VEVENT
BEGIN:VEVENT
DTSTART;TZID=Europe/Paris:20251115T200000
DTEND;TZID=Europe/Paris:20251115T213000
DTSTAMP:20260426T014818
CREATED:20250410T155648Z
LAST-MODIFIED:20250829T110453Z
UID:9538-1763236800-1763242200@www.amicsdelaunio.cat
SUMMARY:Cançó d'amor i de guerra
DESCRIPTION:🎟️​ Compra aquí la teva entrada\n📍​ Teatre Auditori de Granollers \nCançó d’amor i de guerra torna als escenaris en una producció especial pels 25 anys de la companyia local Milnotes. Aquesta versió moderna i fidel als orígens recupera una de les sarsueles més estimades del repertori català. Amb escenografia immersiva\, orquestra en directe\, cos de dansa i cors professionals\, l’espectacle homenatja el patrimoni musical i escènic del país. La direcció artística i musical aposta per l’excel·lència i l’emoció. És molt més que una reposició: és una celebració de la cultura compartida. Un clàssic que reneix amb força i compromís contemporani. \nEl Cor Arpegi Amics de la Unió participa d’aquesta producció\, un clàssic català que reneix amb força i emoció per celebrar els 25 anys de la companyia milnotes. \n  \nDirecció artística i general: Joan Garrido García\nDirecció musical: Daniel Pérez\nDirecció de cors: Guillem Ponsí i Vilà i Xavier Dolç\nOrquestra de Mataró (35 músics)\nRepartiment:\nFrancina: Mireia Dolç – soprano\nEloi: Facundo Muñoz – tenor\nAvi Castellet: Lluís Sintes – baix baríton\nBaldiret: Joan Garrido – tenor còmic\nCatrineta: Elena Oliver – soprano còmica\nHoraci: Joan Carles Roca – actor cantant\nFerran: Dani Bernabé\nHostalera: Neus Garcia\nBatlle Ridau: Miquel Noguera\nMestre Andreu: Rafael Miralles\nBalandrot / Caporal: Albert Estengre\nGaldric: Víctor Blazquez\nGaret: Ivan Monjonell\nRecitaire: Babeth Ripoll\nCol·laboracions especials\nCors participants: Cor Arpegi i Cor d’Aula Lírica de Granollers\nEsbart Dansaire de Granollers
URL:https://www.amicsdelaunio.cat/agenda/concert-dintercanvi-2-2-2/
LOCATION:Teatre Auditori de Granollers\, Carrer de Josep Torras i Bages\, 50\, Granollers\, Barcelona\, 08401\, Espanya
CATEGORIES:Cor Arpegi Amics de la Unió,General
ATTACH;FMTTYPE=image/jpeg:https://www.amicsdelaunio.cat/wp-content/uploads/2024/12/IT2A9401-scaled.jpg
END:VEVENT
BEGIN:VEVENT
DTSTART;TZID=Europe/Paris:20251116T180000
DTEND;TZID=Europe/Paris:20251116T193000
DTSTAMP:20260426T014818
CREATED:20250410T155648Z
LAST-MODIFIED:20250828T100852Z
UID:9540-1763316000-1763321400@www.amicsdelaunio.cat
SUMMARY:Cançó d'amor i de guerra
DESCRIPTION:🎟️​ Compra aquí la teva entrada\n📍​ Teatre Auditori de Granollers \nCançó d’amor i de guerra torna als escenaris en una producció especial pels 25 anys de la companyia local Milnotes. Aquesta versió moderna i fidel als orígens recupera una de les sarsueles més estimades del repertori català. Amb escenografia immersiva\, orquestra en directe\, cos de dansa i cors professionals\, l’espectacle homenatja el patrimoni musical i escènic del país. La direcció artística i musical aposta per l’excel·lència i l’emoció. És molt més que una reposició: és una celebració de la cultura compartida. Un clàssic que reneix amb força i compromís contemporani. \nEl Cor Arpegi Amics de la Unió participa d’aquesta producció\, un clàssic català que reneix amb força i emoció per celebrar els 25 anys de la companyia milnotes. \n  \nDirecció artística i general: Joan Garrido García\nDirecció musical: Daniel Pérez\nDirecció de cors: Guillem Ponsí i Vilà i Xavier Dolç\nOrquestra de Mataró (35 músics)\nRepartiment:\nFrancina: Mireia Dolç – soprano\nEloi: Facundo Muñoz – tenor\nAvi Castellet: Lluís Sintes – baix baríton\nBaldiret: Joan Garrido – tenor còmic\nCatrineta: Elena Oliver – soprano còmica\nHoraci: Joan Carles Roca – actor cantant\nFerran: Dani Bernabé\nHostalera: Neus Garcia\nBatlle Ridau: Miquel Noguera\nMestre Andreu: Rafael Miralles\nBalandrot / Caporal: Albert Estengre\nGaldric: Víctor Blazquez\nGaret: Ivan Monjonell\nRecitaire: Babeth Ripoll\nCol·laboracions especials\nCors participants: Cor Arpegi i Cor d’Aula Lírica de Granollers\nEsbart Dansaire de Granollers
URL:https://www.amicsdelaunio.cat/agenda/concert-dintercanvi-2-2-2-2/
LOCATION:Teatre Auditori de Granollers\, Carrer de Josep Torras i Bages\, 50\, Granollers\, Barcelona\, 08401\, Espanya
CATEGORIES:Cor Arpegi Amics de la Unió,General
ATTACH;FMTTYPE=image/jpeg:https://www.amicsdelaunio.cat/wp-content/uploads/2024/12/IT2A9401-scaled.jpg
END:VEVENT
BEGIN:VEVENT
DTSTART;TZID=Europe/Paris:20251122T123000
DTEND;TZID=Europe/Paris:20251122T140000
DTSTAMP:20260426T014818
CREATED:20250425T145329Z
LAST-MODIFIED:20251028T102313Z
UID:9691-1763814600-1763820000@www.amicsdelaunio.cat
SUMMARY:Concert Solidari per Santa Cecília
DESCRIPTION:🎟️​ Compra la teva entrada aquí \n📍​ Sala Tarafa\, Granollers \nCada any\, la nostra entitat vol prestar una atenció especial a la vessant més social que va caracteritzar els seus orígens i per això organitza concerts que defensin la música com una eina de canvi. \nEnguany\, el concert del matí anirà a càrrec dels combos de l‘escola i el Cor d’Inicis que us portaran la fantasia i els seus personatges amb un repertori on bruixes\, fades\, follets\, dracs ferotges i unicorns fantàstics sonaran per col·laborar amb la Campanya de Joguines de la Creu Roja. \n  \nCor d’Inicis  \nMaria Illa\, directora
URL:https://www.amicsdelaunio.cat/agenda/audicions-dinstrument-2-2/
LOCATION:Sala Tarafa\, Carrer de Corró\, 47\, 08401 Granollers\, Barcelona
CATEGORIES:Alumnat d'instruments,Cor d'Inicis,Escola Granollers,General
ATTACH;FMTTYPE=image/jpeg:https://www.amicsdelaunio.cat/wp-content/uploads/2025/04/inicis-regu.jpg
END:VEVENT
BEGIN:VEVENT
DTSTART;TZID=Europe/Paris:20251122T190000
DTEND;TZID=Europe/Paris:20251122T203000
DTSTAMP:20260426T014818
CREATED:20250425T145329Z
LAST-MODIFIED:20251028T105517Z
UID:9694-1763838000-1763843400@www.amicsdelaunio.cat
SUMMARY:Concert Solidari per Santa Cecília
DESCRIPTION:🎟️​ Compra la teva entrada aquí \n📍​ Sala Tarafa\, Granollers \nCada any\, la nostra entitat vol prestar una atenció especial a la vessant més social que va caracteritzar els seus orígens i per això organitza concerts que defensin la música com una eina de canvi. \nA la tarda\, el Cor Gaia comptarà amb un cor convidat\, la Coral Masveu per oferir un concert solidari que destinarà els seus beneficis a la campanya de joguines d’enguany de la Creu Roja. \n  \nCor Gaia  \nMaria Illa\, directora \nCoral Masveu \nMaria Millet\, directora
URL:https://www.amicsdelaunio.cat/agenda/audicions-dinstrument-2-2-2/
LOCATION:Sala Tarafa\, Carrer de Corró\, 47\, 08401 Granollers\, Barcelona
CATEGORIES:Cor Gaia Amics de la Unió,Escola Granollers,General
ATTACH;FMTTYPE=image/jpeg:https://www.amicsdelaunio.cat/wp-content/uploads/2024/12/IT2A0057-scaled.jpg
END:VEVENT
BEGIN:VEVENT
DTSTART;TZID=Europe/Paris:20251122T200000
DTEND;TZID=Europe/Paris:20251122T213000
DTSTAMP:20260426T014818
CREATED:20230124T100708Z
LAST-MODIFIED:20251016T161348Z
UID:9496-1763841600-1763847000@www.amicsdelaunio.cat
SUMMARY:Missa Solemnis Santa Cecília de Charles Gounod
DESCRIPTION:🎟️​ Compra les entrades aquí.\n📍​ Teatre Auditori de Granollers \nMahler Totenfeier (primer moviment de la Segona Simfonia en Do menor)\nEl significat literari del primer moviment va ser donat pel mateix Mahler. Conscient de produir unes obres basades en motius transcendents\, explora en la seva segona simfonia un dels misteris de la vida\, la qual cosa passa després de la mort. Vol respondre a les importants preguntes del gènere humà\, el perquè vivim\, el perquè dels nostres sofriments. La seva resposta es basa en les seves creences cristianes d’una vida futura\, en la resurrecció. En aquest moviment assistim als solemnes funerals del nostre heroi\, el Titan que ha mort en la primera simfonia. El dramatisme de la mort queda ennoblit pel consol d’una resurrecció. El primer moviment va ser acabat a Praga el mes d’agost de 1888 amb el títol de “Totenfeier”\, cerimònia fúnebre. Però aquesta obra no va tenir continuació durant cinc anys\, convertint-se en una composició independent. Mahler va dirigir la Totenfeier com a obra independent una vegada\, el 16 de març de 1896 a Berlín\, és a dir\, després de l’estrena de la Simfonia núm. 2 completa.\n\nEn aquest concert proposem un viatge trascendent  des d’aquesta “ Cerimonia fúnebre “del primer moviment de la Segona simfonia  a la misa de  Santa Cecilia de Gounod .\nTot i que avui és recordat sobretot per òperes com Romeu i Julieta o Faust\, Charles Gounod va ser un prolífic creador de música religiosa. Aquesta missa\, dedicada a la patrona de la música\, és la seva obra sacra més coneguda i forma part del gran repertori litúrgic del Romanticisme. El compositor\, que vivia intensament la seva fe cristiana i havia estat a punt de dedicar-se al sacerdoci\, va aplicar en aquesta missa el seu ideari sobre què havia de ser la música religiosa. Segons Gounod “Palestrina i Bach són els pares de l’Església\, per això és important que nosaltres en seguim sent els fills” i per això la seva música ofereix un elegant equilibri de textures i simplicitat harmònica combinant l’estil dels mestres renaixentistes amb elements de l’òpera moderna. \nUn concert ple d’espiritualitat i bellesa melòdica \n  \nCor Jove Amics de la Unió \nMarta Dosaiguas\, directora \nArs Vocalis Esposende de Portugal \nHelena Venda\, directora \nJove Orquestra Simfònica de Barcelona \nCarlos Checa\, director \nAna Arias\, soprano \nJoan Folqué. tenor \nIago García Rojas\, baríton \nCarlos Checa\, direcció
URL:https://www.amicsdelaunio.cat/agenda/missasolemnis/
LOCATION:Teatre Auditori de Granollers\, Carrer de Josep Torras i Bages\, 50\, Granollers\, Barcelona\, 08401\, Espanya
CATEGORIES:Cor Jove,General
ATTACH;FMTTYPE=image/jpeg:https://www.amicsdelaunio.cat/wp-content/uploads/2025/04/Captura-de-pantalla-2025-09-30-121534.jpg
END:VEVENT
BEGIN:VEVENT
DTSTART;TZID=Europe/Paris:20251123T180000
DTEND;TZID=Europe/Paris:20251123T193000
DTSTAMP:20260426T014818
CREATED:20230124T100708Z
LAST-MODIFIED:20251030T191304Z
UID:9499-1763920800-1763926200@www.amicsdelaunio.cat
SUMMARY:Missa Solemnis Santa Cecília de Charles Gounod
DESCRIPTION:🎟️​ Compra les entrades aquí\n📍​ Palau de la Música Catalana \nMahler Totenfeier (primer moviment de la Segona Simfonia en Do menor)\nEl significat literari del primer moviment va ser donat pel mateix Mahler. Conscient de produir unes obres basades en motius transcendents\, explora en la seva segona simfonia un dels misteris de la vida\, la qual cosa passa després de la mort. Vol respondre a les importants preguntes del gènere humà\, el perquè vivim\, el perquè dels nostres sofriments. La seva resposta es basa en les seves creences cristianes d’una vida futura\, en la resurrecció. En aquest moviment assistim als solemnes funerals del nostre heroi\, el Titan que ha mort en la primera simfonia. El dramatisme de la mort queda ennoblit pel consol d’una resurrecció. El primer moviment va ser acabat a Praga el mes d’agost de 1888 amb el títol de “Totenfeier”\, cerimònia fúnebre. Però aquesta obra no va tenir continuació durant cinc anys\, convertint-se en una composició independent. Mahler va dirigir la Totenfeier com a obra independent una vegada\, el 16 de març de 1896 a Berlín\, és a dir\, després de l’estrena de la Simfonia núm. 2 completa.\n\nEn aquest concert proposem un viatge trascendent  des d’aquesta “ Cerimonia fúnebre “del primer moviment de la Segona simfonia  a la misa de  Santa Cecilia de Gounod .\nTot i que avui és recordat sobretot per òperes com Romeu i Julieta o Faust\, Charles Gounod va ser un prolífic creador de música religiosa. Aquesta missa\, dedicada a la patrona de la música\, és la seva obra sacra més coneguda i forma part del gran repertori litúrgic del Romanticisme. El compositor\, que vivia intensament la seva fe cristiana i havia estat a punt de dedicar-se al sacerdoci\, va aplicar en aquesta missa el seu ideari sobre què havia de ser la música religiosa. Segons Gounod “Palestrina i Bach són els pares de l’Església\, per això és important que nosaltres en seguim sent els fills” i per això la seva música ofereix un elegant equilibri de textures i simplicitat harmònica combinant l’estil dels mestres renaixentistes amb elements de l’òpera moderna. \nUn concert ple d’espiritualitat i bellesa melòdica \n  \nCor Jove Amics de la Unió \nMarta Dosaiguas\, directora \nArs Vocalis Esposende de Portugal \nHelena Venda\, directora \nJove Orquestra Simfònica de Barcelona \nCarlos Checa\, director \nAna Arias\, soprano \nJoan Folqué. tenor \nIago García Rojas\, baríton \nCarlos Checa\, direcció
URL:https://www.amicsdelaunio.cat/agenda/missasolemnis-2/
LOCATION:Palau de la Música Catalana\, Carrer del Palau de la Música\, 4-6\, Barcelona\, Barcelona\, 08002\, Espanya
CATEGORIES:Cor Jove,General
ATTACH;FMTTYPE=image/jpeg:https://www.amicsdelaunio.cat/wp-content/uploads/2025/04/IT2A0075-1-scaled.jpg
END:VEVENT
BEGIN:VEVENT
DTSTART;TZID=Europe/Paris:20251124T170000
DTEND;TZID=Europe/Paris:20251205T200000
DTSTAMP:20260426T014818
CREATED:20250425T145329Z
LAST-MODIFIED:20251027T190149Z
UID:9689-1764003600-1764964800@www.amicsdelaunio.cat
SUMMARY:Audicions d'instrument
DESCRIPTION:🎟️​ Entrada lliure\n📍​ Sala Sant Francesc i Sala Tarafa\, Granollers \nDos cops l’any\, tots els alumnes d’instrument presenten davant dels seus familiars els coneixements que han adquirit. Les audicions serveixen per mostrar l’evolució dels alumnes i el resultat de la feina realitzada i també perquè agafin l’hàbit de tocar en públic. \n 
URL:https://www.amicsdelaunio.cat/agenda/audicions-dinstrument-2/
LOCATION:Sala Sant Francesc\, Granollers
CATEGORIES:Alumnat d'instruments,General
ATTACH;FMTTYPE=image/jpeg:https://www.amicsdelaunio.cat/wp-content/uploads/2025/04/WhatsApp-Image-2023-11-28-at-17.48.00.jpg
END:VEVENT
BEGIN:VEVENT
DTSTART;TZID=Europe/Paris:20251129T190000
DTEND;TZID=Europe/Paris:20251129T203000
DTSTAMP:20260426T014818
CREATED:20230124T100708Z
LAST-MODIFIED:20251027T185654Z
UID:9507-1764442800-1764448200@www.amicsdelaunio.cat
SUMMARY:Cantem Ruera!
DESCRIPTION:🎟️​ Compra les entrades aquí\n📍​ Església de Sant Esteve\, Granollers \nConcert commemoratiu del 125è aniversari de Josep Ma Ruera  \nAmb motiu dels 125 anys del naixement del compositor Josep Ma Ruera (1900–1988)\, aquest concert ret homenatge a una de les figures més destacades de la música coral catalana del segle XX. El programa ens convida a fer un viatge per la seva obra coral\, profundament arrelada en la tradició popular i espiritual del país.  \nDes de la solemnitat de La Divina Sardana fins a la vivacitat de la Suite catalana\, passant per joies com La nostra dansa\, La verge Catalana o El dimoni escuat\, el concert mostra la riquesa melòdica\, el lirisme i l’expressivitat del seu llenguatge musical.  \nRuera\, mestre de capella i pedagog influent\, va saber elevar la música coral a un nivell de profund compromís artístic i identitari. Aquest recital és un tribut viu a la seva obra i a la seva estima per la cultura catalana.  \n  \n  \nFitxa Artística  \nVeus – Cor Infantil Amics de la Unió (Josep Vila Jover\, director)  \nCor Jove Amics de la Unió (Marta Dosaiguas\, directora)  \nCor de Cambra de Granollers (Josep Vila Jover\, director)  \nCor Mixt Amics de la Unió (Luc-Olivier Sánchez\, director)  \nCor Arpegi Amics de la Unió (Guillem Ponsí\, director)  \nJoan Espuny\, orgue  \nOriol Padró\, narrador
URL:https://www.amicsdelaunio.cat/agenda/missasolemnis-2-3/
LOCATION:Parròquia de Sant Esteve\, Plaça de l'Església\, 1\, Granollers\, Barcelona\, 08401\, Espanya
CATEGORIES:Cor Arpegi Amics de la Unió,Cor de Cambra,Cor Jove,Cor Mixt Amics de la Unió,General,Veus
ATTACH;FMTTYPE=image/jpeg:https://www.amicsdelaunio.cat/wp-content/uploads/2023/11/0022-scaled.jpg
END:VEVENT
BEGIN:VEVENT
DTSTART;TZID=Europe/Paris:20251130T180000
DTEND;TZID=Europe/Paris:20251130T190000
DTSTAMP:20260426T014818
CREATED:20220829T100550Z
LAST-MODIFIED:20250929T144124Z
UID:9512-1764525600-1764529200@www.amicsdelaunio.cat
SUMMARY:Acte commemoratiu Sagrada Família
DESCRIPTION:Acte Privat \n📍 Sagrada Famíllia de Barcelona \nVeus-Cor Infantil Amics de la Unió participa de l’acte commemoratiu del centenari de la finalització de la torre de Sant Bernabé de la Sagrada Família i de l’inici de la commemoració del centenari de la mort d’Antoni Gaudí. \n  \nVeus – Cor Infantil Amics de la Unió \nJosep Vila Jover\, director \n  \n  \n  \n 
URL:https://www.amicsdelaunio.cat/agenda/songs-of-hope-16-5/
LOCATION:La Sagrada Família\, C/ de Mallorca\, 401\, Barcelona\, Barcelona\, 08013\, Espanya
CATEGORIES:General,Veus
ATTACH;FMTTYPE=image/jpeg:https://www.amicsdelaunio.cat/wp-content/uploads/2025/04/VEUS-02-2-scaled.jpg
END:VEVENT
END:VCALENDAR