BEGIN:VCALENDAR
VERSION:2.0
PRODID:-//Societat Coral Amics de la Unió - ECPv5.7.0//NONSGML v1.0//EN
CALSCALE:GREGORIAN
METHOD:PUBLISH
X-WR-CALNAME:Societat Coral Amics de la Unió
X-ORIGINAL-URL:https://www.amicsdelaunio.cat
X-WR-CALDESC:Esdeveniments per Societat Coral Amics de la Unió
BEGIN:VTIMEZONE
TZID:Europe/Paris
BEGIN:DAYLIGHT
TZOFFSETFROM:+0100
TZOFFSETTO:+0200
TZNAME:CEST
DTSTART:20250330T010000
END:DAYLIGHT
BEGIN:STANDARD
TZOFFSETFROM:+0200
TZOFFSETTO:+0100
TZNAME:CET
DTSTART:20251026T010000
END:STANDARD
END:VTIMEZONE
BEGIN:VEVENT
DTSTART;TZID=Europe/Paris:20251124T170000
DTEND;TZID=Europe/Paris:20251205T200000
DTSTAMP:20260426T032355
CREATED:20250425T145329Z
LAST-MODIFIED:20251027T190149Z
UID:9689-1764003600-1764964800@www.amicsdelaunio.cat
SUMMARY:Audicions d'instrument
DESCRIPTION:🎟️​ Entrada lliure\n📍​ Sala Sant Francesc i Sala Tarafa\, Granollers \nDos cops l’any\, tots els alumnes d’instrument presenten davant dels seus familiars els coneixements que han adquirit. Les audicions serveixen per mostrar l’evolució dels alumnes i el resultat de la feina realitzada i també perquè agafin l’hàbit de tocar en públic. \n 
URL:https://www.amicsdelaunio.cat/agenda/audicions-dinstrument-2/
LOCATION:Sala Sant Francesc\, Granollers
CATEGORIES:Alumnat d'instruments,General
ATTACH;FMTTYPE=image/jpeg:https://www.amicsdelaunio.cat/wp-content/uploads/2025/04/WhatsApp-Image-2023-11-28-at-17.48.00.jpg
END:VEVENT
BEGIN:VEVENT
DTSTART;TZID=Europe/Paris:20251213T113000
DTEND;TZID=Europe/Paris:20251213T130000
DTSTAMP:20260426T032355
CREATED:20241017T095428Z
LAST-MODIFIED:20251028T163114Z
UID:9516-1765625400-1765630800@www.amicsdelaunio.cat
SUMMARY:Conte de Nadal
DESCRIPTION:🎟️​ Compra les teves entrades \nVeus – Cor Infantil Amics de la Unió\, juntament amb l’orquestra del Gran Teatre del Liceu\, ofereixen un concert molt especial sobre el conte de Charles Dickens il·lustrat amb la poesia de la sorra de Borja González (Cia. Ytuquepintas) i música d’Albert Guinovart. \nFITXA ARTÍSTICA \nAna San Martín\, soprano\nAlbert Mora\, tenor\nAlbert Guinovart\, música i piano\nJosep Vila Jover\, direcció musical\nDavid Pintó\, adaptació del text i coordinació escènica\nBorja González (Cia. Ytuquepintas)\, art amb sorra\nOrquestra Simfònica del Gran Teatre del Liceu\nVeus – Cor Infantil Amics de la Unió \nREPERTORI \nALBERT GUINOVART: Conte de Nadal de Charles Dickens\nALBERT GUINOVART: Suite Nadalenca
URL:https://www.amicsdelaunio.cat/agenda/conte-de-nadal-3-2-3-2/
LOCATION:Gran Teatre del Liceu\, La Rambla\, 51-59\, Barcelona\, Barcelona\, 08002
CATEGORIES:General,Veus
ATTACH;FMTTYPE=image/png:https://www.amicsdelaunio.cat/wp-content/uploads/2021/06/contedenadal.png
END:VEVENT
BEGIN:VEVENT
DTSTART;TZID=Europe/Paris:20251214T113000
DTEND;TZID=Europe/Paris:20251214T130000
DTSTAMP:20260426T032355
CREATED:20241017T095428Z
LAST-MODIFIED:20250929T144313Z
UID:9519-1765711800-1765717200@www.amicsdelaunio.cat
SUMMARY:Conte de Nadal
DESCRIPTION:🎟️​ Compra les teves entrades \nVeus – Cor Infantil Amics de la Unió\, juntament amb l’orquestra del Gran Teatre del Liceu\, ofereixen un concert molt especial sobre el conte de Charles Dickens il·lustrat amb la poesia de la sorra de Borja González (Cia. Ytuquepintas) i música d’Albert Guinovart. \nFITXA ARTÍSTICA \nAna San Martín\, soprano\nAlbert Mora\, tenor\nAlbert Guinovart\, música i piano\nJosep Vila Jover\, direcció musical\nDavid Pintó\, adaptació del text i coordinació escènica\nBorja González (Cia. Ytuquepintas)\, art amb sorra\nOrquestra Simfònica del Gran Teatre del Liceu\nVeus – Cor Infantil Amics de la Unió \nREPERTORI \nALBERT GUINOVART: Conte de Nadal de Charles Dickens\nALBERT GUINOVART: Suite Nadalenca
URL:https://www.amicsdelaunio.cat/agenda/conte-de-nadal-3-2-3-2-2/
LOCATION:Gran Teatre del Liceu\, La Rambla\, 51-59\, Barcelona\, Barcelona\, 08002
CATEGORIES:General,Veus
ATTACH;FMTTYPE=image/png:https://www.amicsdelaunio.cat/wp-content/uploads/2021/06/contedenadal.png
END:VEVENT
BEGIN:VEVENT
DTSTART;TZID=Europe/Paris:20251214T123000
DTEND;TZID=Europe/Paris:20251214T140000
DTSTAMP:20260426T032355
CREATED:20241224T105140Z
LAST-MODIFIED:20251201T112116Z
UID:9716-1765715400-1765720800@www.amicsdelaunio.cat
SUMMARY:Concert de nadal
DESCRIPTION:🎟️ Compra les teves entrades  \n📍 Teatre Auditori de Granollers \nUn tió enfadat i un patge atabalat. \nEls cors infantils de l’Escola de Música Amics de la Unió\, ens oferiran un concert de cine\, amb clàssics de les nostres pel·lícules de Nadal preferides. \nCompartiran escena amb un tió enfadat que pensa que és injust estar allà parat\, mentre el Patge reial volta i viu el Nadal atabalat. El cor Minimúsics\, el Cor d’Inicis\, el Cor Petits Cantors i el Cor Allegro\, amb les seves veus faran veure al tió que el més important és viure el Nadal amb il·lusió i emoció. \nFitxa artística:\nCor Minimúsics\, Mireia Sagalés (directora)\nCor d’Inicis\, Maria Illa (directora)\nCor Petits Cantors\, Guifré Canadell i Maria Illa (directors)\nCor Allegro\, Martí Llobet (director)\nAleix Burgués\, batería\nArnau Navarro\, clarinet\nPep Pérez\, baix elèctric\nGeorgina Masanés\, piano\nJuan Ruano\, guitarra\nBernat Fusté\, patge\nTió
URL:https://www.amicsdelaunio.cat/agenda/divendres-musical-2-2-2-2-3/
LOCATION:Teatre Auditori de Granollers\, Carrer de Josep Torras i Bages\, 50\, Granollers\, Barcelona\, 08401\, Espanya
CATEGORIES:Cor Allegro,Cor d'Inicis,Cor Minimúsics,Cor Petits Cantors,Escola Granollers
ATTACH;FMTTYPE=image/png:https://www.amicsdelaunio.cat/wp-content/uploads/2024/12/foto-concert-nadal.png
END:VEVENT
BEGIN:VEVENT
DTSTART;TZID=Europe/Paris:20251214T180000
DTEND;TZID=Europe/Paris:20251214T190000
DTSTAMP:20260426T032355
CREATED:20241224T105140Z
LAST-MODIFIED:20251201T112734Z
UID:9719-1765735200-1765738800@www.amicsdelaunio.cat
SUMMARY:Sobretaula - Concert de Nadal
DESCRIPTION:🎟️ Compra les teves entrades  \n📍 Teatre Auditori de Granollers \nUna taula\, un grup d’amigues i un sopar ben musical. \nRetrobaments\, anècdotes\, confidències\, conflictes i emocions s’enllacen amb les cançons que interpretaran les veus joves del grup vocal Sound8. \nEl públic formarà part d’aquest espectacle íntim i sincer\, ple de tendresa i música coral popular d’arreu. \nFitxa artística:\nSound8\, Maria Illa (directora)\nJuan Ruano\, guitarra
URL:https://www.amicsdelaunio.cat/agenda/divendres-musical-2-2-2-2-3-2/
LOCATION:Teatre Auditori de Granollers\, Carrer de Josep Torras i Bages\, 50\, Granollers\, Barcelona\, 08401\, Espanya
CATEGORIES:Escola Granollers,Sound 8
ATTACH;FMTTYPE=image/png:https://www.amicsdelaunio.cat/wp-content/uploads/2024/12/concert-nadal-tarda-SOBRETAULA-sound8.png
END:VEVENT
BEGIN:VEVENT
DTSTART;TZID=Europe/Paris:20251214T193000
DTEND;TZID=Europe/Paris:20251214T203000
DTSTAMP:20260426T032355
CREATED:20241224T105140Z
LAST-MODIFIED:20251201T113138Z
UID:9723-1765740600-1765744200@www.amicsdelaunio.cat
SUMMARY:Sing Gaia\, it's Christmas
DESCRIPTION:🎟️ Compra les teves entrades  \n📍 Teatre Auditori de Granollers \n\n\n\n\nEl Cor Gaia ens oferirà\, a l’últim concert de la jornada\, un repertori pop femení variat i animat\, junt amb Nadales americanes de sempre. Un concert fresc i Nadalenc per crear ambient i gaudir d’una bona estona musical en família.  \nFitxa artística:\nCor Gaia\, Maria Illa (directora)\nViviana Salisi\, piano
URL:https://www.amicsdelaunio.cat/agenda/divendres-musical-2-2-2-2-3-2-2/
LOCATION:Teatre Auditori de Granollers\, Carrer de Josep Torras i Bages\, 50\, Granollers\, Barcelona\, 08401\, Espanya
CATEGORIES:Cor Gaia Amics de la Unió,Escola Granollers
ATTACH;FMTTYPE=image/jpeg:https://www.amicsdelaunio.cat/wp-content/uploads/2024/12/Concert-nadal-tarda-Gaia.jpg
END:VEVENT
BEGIN:VEVENT
DTSTART;TZID=Europe/Paris:20251214T210000
DTEND;TZID=Europe/Paris:20251214T223000
DTSTAMP:20260426T032355
CREATED:20250410T151115Z
LAST-MODIFIED:20250825T072837Z
UID:9526-1765746000-1765751400@www.amicsdelaunio.cat
SUMMARY:El Messies de Händel
DESCRIPTION:🎟️​ compra les teves entrades aquí\n📍​ Palau de la Música Catalana\, Barcelona \nAmb El Messies\, Händel va crear una de les obres més estimades de tot el repertori clàssic. Aquest oratori\, ple de bellesa i solemnitat\, ha esdevingut una tradició indiscutible de les festes de Nadal. La seva música\, emocionant i vibrant\, connecta directament amb el públic gràcies a la força expressiva dels cors i àries i a moments tan universals com l’inconfusible Hallelujah. \nVespres d’Arnadí\, una de les formacions referents en la interpretació amb criteris històrics\, i el Cor de Cambra de Granollers\, sota la direcció de Xavier Puig\, ofereixen una versió seleccionada d’aquesta obra icònica amb un quartet vocal destacat format per Irene Mas (soprano)\, Daniel Folqué (contralt)\, Roger Padullés (tenor) i Josep-Ramon Olivé (baríton) i instruments d’època. Una proposta ideal per gaudir de l’esperit de Nadal amb tota la intensitat i l’autenticitat del barroc. \n  \nIrene Mas\, soprano\nDaniel Folqué\, contralt\nRoger Padullés\, tenor\nJosep-Ramon Olivé\, baríton\nCor de Cambra de Granollers (Josep Vila i Jover\, director)\nVespres d’Arnadí (Dani Espasa\, director)\nXavier Puig\, director
URL:https://www.amicsdelaunio.cat/agenda/elmessiesdehaendel/
LOCATION:Palau de la Música Catalana\, Carrer del Palau de la Música\, 4-6\, Barcelona\, Barcelona\, 08002\, Espanya
CATEGORIES:Cor de Cambra,General
ATTACH;FMTTYPE=image/jpeg:https://www.amicsdelaunio.cat/wp-content/uploads/2025/04/FOTO-5-1-scaled.jpg
END:VEVENT
BEGIN:VEVENT
DTSTART;VALUE=DATE:20251215
DTEND;VALUE=DATE:20251220
DTSTAMP:20260426T032355
CREATED:20241224T105140Z
LAST-MODIFIED:20251202T184235Z
UID:9736-1765756800-1766188799@www.amicsdelaunio.cat
SUMMARY:Cantada de Nadales
DESCRIPTION:🎟️ Entrada lliure \n📍 Granollers \nLa setmana del 15 al 19 de desembre\, les diferents corals de l’escola interpretaran un repertori nadalenc pels diferents racons de la ciutat per donar la benvinguda al Nadal. \n 
URL:https://www.amicsdelaunio.cat/agenda/divendres-musical-2-2-2-2-4/
CATEGORIES:Escola Granollers
ATTACH;FMTTYPE=image/jpeg:https://www.amicsdelaunio.cat/wp-content/uploads/2024/12/IMG_20221219_183619-1-scaled.jpg
END:VEVENT
BEGIN:VEVENT
DTSTART;TZID=Europe/Paris:20251219T200000
DTEND;TZID=Europe/Paris:20251219T210000
DTSTAMP:20260426T032355
CREATED:20220829T100550Z
LAST-MODIFIED:20251202T191316Z
UID:9613-1766174400-1766178000@www.amicsdelaunio.cat
SUMMARY:Songs of Hope
DESCRIPTION:🎟️​ Compra les teves entrades trucant o enviant un missatge de WhatsApp al 676 925 322 \n📍 El Casal de Llavaneres\, Barcelona  \nVeus\, oferirà el seu projecte Songs of Hope (que s’articula entorn de diferents obres de compositors catalans d’arreu del món\, autors contemporanis i d’altres segles) i també la Suite nadalenca\, d’Albert Guinovart\, un enfilall de cançons de Nadal. Songs of Hope ha girat per diverses ciutats europees i ha arribat també al continent asiàtic. El concert és una experiència sensorial que va més enllà de qualsevol expectativa; música i teatre s’uneixen per fer sentir l’espectador com si fos un membre del cor. \n  \nVeus – Cor Infantil Amics de la Unió \nJosep Vila Jover\, director \nOrgue: Joan Espuny \n  \n  \n  \n 
URL:https://www.amicsdelaunio.cat/agenda/songs-of-hope-16-6/
LOCATION:Casal de Llavaneres\, Avinguda de Catalunya\, 56\, 08392 Sant Andreu de Llavaneres\, Barcelona\, Sant Andreu de Llavaneres
CATEGORIES:General,Veus
ATTACH;FMTTYPE=image/jpeg:https://www.amicsdelaunio.cat/wp-content/uploads/2024/10/IMG_1746-scaled.jpg
END:VEVENT
BEGIN:VEVENT
DTSTART;TZID=Europe/Paris:20251221T180000
DTEND;TZID=Europe/Paris:20251221T200000
DTSTAMP:20260426T032355
CREATED:20241224T105140Z
LAST-MODIFIED:20251202T185258Z
UID:9739-1766340000-1766347200@www.amicsdelaunio.cat
SUMMARY:Concert Combos
DESCRIPTION:🎟️ Entrada lliure \n📍Sala Sant Francesc \nUn any més els combos de l’escola ens oferirant un concert gratuït de final de trimestre per tancar de manera excepcional aquesta primera part del curs. \nUs hi esperem! \n  \n 
URL:https://www.amicsdelaunio.cat/agenda/concertcombos/
LOCATION:Sala Sant Francesc\, Granollers
CATEGORIES:Alumnat d'instruments,Escola Granollers
ATTACH;FMTTYPE=image/jpeg:https://www.amicsdelaunio.cat/wp-content/uploads/2024/12/WhatsApp-Image-2024-12-17-at-20.32.17-2.jpg
END:VEVENT
END:VCALENDAR