BEGIN:VCALENDAR
VERSION:2.0
PRODID:-//Societat Coral Amics de la Unió - ECPv5.7.0//NONSGML v1.0//EN
CALSCALE:GREGORIAN
METHOD:PUBLISH
X-WR-CALNAME:Societat Coral Amics de la Unió
X-ORIGINAL-URL:https://www.amicsdelaunio.cat
X-WR-CALDESC:Esdeveniments per Societat Coral Amics de la Unió
BEGIN:VTIMEZONE
TZID:Europe/Paris
BEGIN:DAYLIGHT
TZOFFSETFROM:+0100
TZOFFSETTO:+0200
TZNAME:CEST
DTSTART:20260329T010000
END:DAYLIGHT
BEGIN:STANDARD
TZOFFSETFROM:+0200
TZOFFSETTO:+0100
TZNAME:CET
DTSTART:20261025T010000
END:STANDARD
END:VTIMEZONE
BEGIN:VEVENT
DTSTART;TZID=Europe/Paris:20260409T180000
DTEND;TZID=Europe/Paris:20260409T190000
DTSTAMP:20260425T203521
CREATED:20250410T161020Z
LAST-MODIFIED:20260330T092935Z
UID:9852-1775757600-1775761200@www.amicsdelaunio.cat
SUMMARY:10 Anys Som Granollers
DESCRIPTION:🎟️​ Acte Privat \n📍​ Sala Nau B1\, Roca Umbert \nEl cor Petits Cantors participarà en la celebració del desè aniversari del diari Som Granollers. 
URL:https://www.amicsdelaunio.cat/agenda/solstici-2-2-2/
LOCATION:Sala Nau B1
CATEGORIES:Cor Petits Cantors,Escola Granollers,General
ATTACH;FMTTYPE=image/jpeg:https://www.amicsdelaunio.cat/wp-content/uploads/2025/04/WhatsApp-Image-2025-11-20-at-20.35.06.jpeg
END:VEVENT
END:VCALENDAR